Workbook
Name EmployeeWeeklyInfo: #REF!

Sheet User Guide
B2: Submitted Awards Scheduler User Guide
B3: General Use
B4: To begin, please create a copy of this spreadsheet!
B5: (File > Create a Copy)
B6: In the tabs below, you will find a Print Page & Workbook for both FIRST Impact Award and FIRST Leadership Award.
B7: If you have 15 or less teams/students, you will use the 1 COLUMN Print Page & Workbook.
B8: If you have 16 or more teams/students, you will use the 4 COLUMN Print Page & Workbook.
B10: Please Note:
B11: Anytime the data in the overall spreadsheet is changed, the schedule in your print page will re-randomize.
B12: If you delete any rows from the Workbook page, it will populate in the Print Page with "#REF" in the last cell of the schedule table. This can be cleared by clicking the cell and hitting backspace, as it deletes the formula pulling the data.
B15: FIRST Impact Award User Guide
B16: In the Workbook, paste information from CSV from Judging Portal
... B34: Once your schedule is finalized, Print the Print Page tab of your award. The print area is already set up.

Sheet FIA 1 COLUMN Workbook
A1: WORKSPACE
A2: Paste info from CSV from judging portal in the table below, do not include header, up to 15 teams.
A3: If more space is needed, use additional tables. If less space is needed, delete any rows not in use.
A4: Team Number | B4: Lead Coach 1 First Name | C4: Lead Coach 1 Last Name | D4: Lead Coach 1 Email | E4: Lead Coach 2 First Name | F4: Lead Coach 2 Last Name | G4: Lead Coach 2 Email | I4: Automated Randomizer
A5: 1 | I5: 1 | J5: {=_xlfn.WRAPROWS(_xlfn.SORTBY(A5:A19, _xlfn.RANDARRAY(ROWS(A5:A19))),1,"")} -> 7
A6: 2 | I6: 2 | J6: 13
A7: 3 | I7: 3 | J7: 11
A8: 4 | I8: 4 | J8: 12
A9: 5 | I9: 5 | J9: 8
A10: 6 | I10: 6 | J10: 3
A11: 7 | I11: 7 | J11: 1
A12: 8 | I12: 8 | J12: 6
A13: 9 | I13: 9 | J13: 4
A14: 10 | I14: 10 | J14: 5
A15: 11 | I15: 11 | J15: 10
A16: 12 | I16: 12 | J16: 14
A17: 13 | I17: 13 | J17: 15
... A19: 15 | I19: 15 | J19: 2

Sheet FIA 1 COLUMN Print Page
A1: FIRST Impact Award Judging
A2: [EVENT NAME]
A4: Time | B4: [DAYS/ROOMS]
A5: 0.39583333 | B5: =IF('FIA 1 COLUMN Workbook'!J5<>0,'FIA 1 COLUMN Workbook'!J5," ") -> 7 | D5: REMINDER!
A6: 0.41666667 | B6: =IF('FIA 1 COLUMN Workbook'!J6<>0,'FIA 1 COLUMN Workbook'!J6," ") -> 13 | D6: The only things you should be editing on this page are the EVENT NAME, DAY/ROOM slots, TIMES, and DAY students must notify pit admin.
A7: 0.4375 | B7: =IF('FIA 1 COLUMN Workbook'!J7<>0,'FIA 1 COLUMN Workbook'!J7," ") -> 11
A8: 0.45833333 | B8: =IF('FIA 1 COLUMN Workbook'!J8<>0,'FIA 1 COLUMN Workbook'!J8," ") -> 12
A9: 0.47916667 | B9: =IF('FIA 1 COLUMN Workbook'!J9<>0,'FIA 1 COLUMN Workbook'!J9," ") -> 8
A10: Lunch
A11: 0.041666667 | B11: =IF('FIA 1 COLUMN Workbook'!J10<>0,'FIA 1 COLUMN Workbook'!J10," ") -> 3 | D11: If you notice and error or have to change a team number, please edit it in the WORKBOOK tab.
A12: 0.0625 | B12: =IF('FIA 1 COLUMN Workbook'!J11<>0,'FIA 1 COLUMN Workbook'!J11," ") -> 1
A13: 0.083333333 | B13: =IF('FIA 1 COLUMN Workbook'!J12<>0,'FIA 1 COLUMN Workbook'!J12," ") -> 6
A14: 0.10416667 | B14: =IF('FIA 1 COLUMN Workbook'!J13<>0,'FIA 1 COLUMN Workbook'!J13," ") -> 4
A15: 0.125 | B15: =IF('FIA 1 COLUMN Workbook'!J14<>0,'FIA 1 COLUMN Workbook'!J14," ") -> 5
A16: 0.14583333 | B16: =IF('FIA 1 COLUMN Workbook'!J15<>0,'FIA 1 COLUMN Workbook'!J15," ") -> 10
A17: 0.16666667 | B17: =IF('FIA 1 COLUMN Workbook'!J16<>0,'FIA 1 COLUMN Workbook'!J16," ") -> 14
A18: 0.1875 | B18: =IF('FIA 1 COLUMN Workbook'!J17<>0,'FIA 1 COLUMN Workbook'!J17," ") -> 15
A19: 0.20833333 | B19: =IF('FIA 1 COLUMN Workbook'!J18<>0,'FIA 1 COLUMN Workbook'!J18," ") -> 9
A20: 0.22916667 | B20: =IF('FIA 1 COLUMN Workbook'!J19<>0,'FIA 1 COLUMN Workbook'!J19," ") -> 2
A22: You may swap with another person. Alert Pit Admin of swaps by 4:00pm on [DAY].
A23: Please be on time to your appointment! Meet outside the interview room 10 minutes proir to your time slot.
A25: Important:
A26: Each team has 7 minutes for presentations and 5 minutes for questions. Set-up time is included in your 7 minutes. Teams with a translator/interpreter will recieve additional time.

Sheet FIA 4 COLUMN Workbook
A1: WORKSPACE
A2: Paste info from CSV from judging portal in the table below, do not include header, up to 15 teams.
A3: If more space is needed, use additional tables. If less space is needed, delete any rows not in use.
A4: Team Number | B4: Lead Coach 1 First Name | C4: Lead Coach 1 Last Name | D4: Lead Coach 1 Email | E4: Lead Coach 2 First Name | F4: Lead Coach 2 Last Name | G4: Lead Coach 2 Email | I4: Automated Randomizer
A5: 1 | I5: 1 | J5: {=_xlfn.WRAPROWS(_xlfn.SORTBY(A5:A64, _xlfn.RANDARRAY(ROWS(A5:A64))),1,"")} -> 4
A6: 2 | I6: 2 | J6: 10
A7: 3 | I7: 3 | J7: 45
A8: 4 | I8: 4 | J8: 29
A9: 5 | I9: 5 | J9: 5
A10: 6 | I10: 6 | J10: 19
A11: 7 | I11: 7 | J11: 12
A12: 8 | I12: 8 | J12: 3
A13: 9 | I13: 9 | J13: 47
A14: 10 | I14: 10 | J14: 31
A15: 11 | I15: 11 | J15: 8
A16: 12 | I16: 12 | J16: 52
A17: 13 | I17: 13 | J17: 2
... A64: 60 | I64: 15 | J64: 43

Sheet FIA 4 COLUMN Print Page
A1: FIRST Impact Award Judging
A2: [EVENT NAME]
A4: Time | B4: [DAYS/ROOMS] | C4: [DAYS/ROOMS] | D4: [DAYS/ROOMS] | E4: [DAYS/ROOMS]
A5: 0.39583333 | B5: =IF('FIA 4 COLUMN Workbook'!J5<>0,'FIA 4 COLUMN Workbook'!J5," ") -> 4 | C5: =IF('FIA 4 COLUMN Workbook'!J20<>0,'FIA 4 COLUMN Workbook'!J20," ") -> 37 | D5: =IF('FIA 4 COLUMN Workbook'!J35<>0,'FIA 4 COLUMN Workbook'!J35," ") -> 28 | E5: =IF('FIA 4 COLUMN Workbook'!J50<>0,'FIA 4 COLUMN Workbook'!J50," ") -> 60 | G5: REMINDER!
A6: 0.41666667 | B6: =IF('FIA 4 COLUMN Workbook'!J6<>0,'FIA 4 COLUMN Workbook'!J6," ") -> 10 | C6: =IF('FIA 4 COLUMN Workbook'!J21<>0,'FIA 4 COLUMN Workbook'!J21," ") -> 34 | D6: =IF('FIA 4 COLUMN Workbook'!J36<>0,'FIA 4 COLUMN Workbook'!J36," ") -> 20 | E6: =IF('FIA 4 COLUMN Workbook'!J51<>0,'FIA 4 COLUMN Workbook'!J51," ") -> 15 | G6: The only things you should be editing on this page are the EVENT NAME, DAY/ROOM slots, TIMES, and DAY students must notify pit admin.
A7: 0.4375 | B7: =IF('FIA 4 COLUMN Workbook'!J7<>0,'FIA 4 COLUMN Workbook'!J7," ") -> 45 | C7: =IF('FIA 4 COLUMN Workbook'!J22<>0,'FIA 4 COLUMN Workbook'!J22," ") -> 18 | D7: =IF('FIA 4 COLUMN Workbook'!J37<>0,'FIA 4 COLUMN Workbook'!J37," ") -> 30 | E7: =IF('FIA 4 COLUMN Workbook'!J52<>0,'FIA 4 COLUMN Workbook'!J52," ") -> 22
A8: 0.45833333 | B8: =IF('FIA 4 COLUMN Workbook'!J8<>0,'FIA 4 COLUMN Workbook'!J8," ") -> 29 | C8: =IF('FIA 4 COLUMN Workbook'!J23<>0,'FIA 4 COLUMN Workbook'!J23," ") -> 59 | D8: =IF('FIA 4 COLUMN Workbook'!J38<>0,'FIA 4 COLUMN Workbook'!J38," ") -> 39 | E8: =IF('FIA 4 COLUMN Workbook'!J53<>0,'FIA 4 COLUMN Workbook'!J53," ") -> 50
A9: 0.47916667 | B9: =IF('FIA 4 COLUMN Workbook'!J9<>0,'FIA 4 COLUMN Workbook'!J9," ") -> 5 | C9: =IF('FIA 4 COLUMN Workbook'!J24<>0,'FIA 4 COLUMN Workbook'!J24," ") -> 38 | D9: =IF('FIA 4 COLUMN Workbook'!J39<>0,'FIA 4 COLUMN Workbook'!J39," ") -> 11 | E9: =IF('FIA 4 COLUMN Workbook'!J54<>0,'FIA 4 COLUMN Workbook'!J54," ") -> 25
A10: Lunch
A11: 0.041666667 | B11: =IF('FIA 4 COLUMN Workbook'!J10<>0,'FIA 4 COLUMN Workbook'!J10," ") -> 19 | C11: =IF('FIA 4 COLUMN Workbook'!J25<>0,'FIA 4 COLUMN Workbook'!J25," ") -> 44 | D11: =IF('FIA 4 COLUMN Workbook'!J40<>0,'FIA 4 COLUMN Workbook'!J40," ") -> 17 | E11: =IF('FIA 4 COLUMN Workbook'!J55<>0,'FIA 4 COLUMN Workbook'!J55," ") -> 26 | G11: If you notice and error or have to change a team number, please edit it in the WORKBOOK tab.
A12: 0.0625 | B12: =IF('FIA 4 COLUMN Workbook'!J11<>0,'FIA 4 COLUMN Workbook'!J11," ") -> 12 | C12: =IF('FIA 4 COLUMN Workbook'!J26<>0,'FIA 4 COLUMN Workbook'!J26," ") -> 9 | D12: =IF('FIA 4 COLUMN Workbook'!J41<>0,'FIA 4 COLUMN Workbook'!J41," ") -> 57 | E12: =IF('FIA 4 COLUMN Workbook'!J56<>0,'FIA 4 COLUMN Workbook'!J56," ") -> 56
A13: 0.083333333 | B13: =IF('FIA 4 COLUMN Workbook'!J12<>0,'FIA 4 COLUMN Workbook'!J12," ") -> 3 | C13: =IF('FIA 4 COLUMN Workbook'!J27<>0,'FIA 4 COLUMN Workbook'!J27," ") -> 40 | D13: =IF('FIA 4 COLUMN Workbook'!J42<>0,'FIA 4 COLUMN Workbook'!J42," ") -> 35 | E13: =IF('FIA 4 COLUMN Workbook'!J57<>0,'FIA 4 COLUMN Workbook'!J57," ") -> 36
A14: 0.10416667 | B14: =IF('FIA 4 COLUMN Workbook'!J13<>0,'FIA 4 COLUMN Workbook'!J13," ") -> 47 | C14: =IF('FIA 4 COLUMN Workbook'!J28<>0,'FIA 4 COLUMN Workbook'!J28," ") -> 13 | D14: =IF('FIA 4 COLUMN Workbook'!J43<>0,'FIA 4 COLUMN Workbook'!J43," ") -> 7 | E14: =IF('FIA 4 COLUMN Workbook'!J58<>0,'FIA 4 COLUMN Workbook'!J58," ") -> 33
A15: 0.125 | B15: =IF('FIA 4 COLUMN Workbook'!J14<>0,'FIA 4 COLUMN Workbook'!J14," ") -> 31 | C15: =IF('FIA 4 COLUMN Workbook'!J29<>0,'FIA 4 COLUMN Workbook'!J29," ") -> 32 | D15: =IF('FIA 4 COLUMN Workbook'!J44<>0,'FIA 4 COLUMN Workbook'!J44," ") -> 21 | E15: =IF('FIA 4 COLUMN Workbook'!J59<>0,'FIA 4 COLUMN Workbook'!J59," ") -> 54
A16: 0.14583333 | B16: =IF('FIA 4 COLUMN Workbook'!J15<>0,'FIA 4 COLUMN Workbook'!J15," ") -> 8 | C16: =IF('FIA 4 COLUMN Workbook'!J30<>0,'FIA 4 COLUMN Workbook'!J30," ") -> 14 | D16: =IF('FIA 4 COLUMN Workbook'!J45<>0,'FIA 4 COLUMN Workbook'!J45," ") -> 41 | E16: =IF('FIA 4 COLUMN Workbook'!J60<>0,'FIA 4 COLUMN Workbook'!J60," ") -> 53
A17: 0.16666667 | B17: =IF('FIA 4 COLUMN Workbook'!J16<>0,'FIA 4 COLUMN Workbook'!J16," ") -> 52 | C17: =IF('FIA 4 COLUMN Workbook'!J31<>0,'FIA 4 COLUMN Workbook'!J31," ") -> 6 | D17: =IF('FIA 4 COLUMN Workbook'!J46<>0,'FIA 4 COLUMN Workbook'!J46," ") -> 23 | E17: =IF('FIA 4 COLUMN Workbook'!J61<>0,'FIA 4 COLUMN Workbook'!J61," ") -> 24
A18: 0.1875 | B18: =IF('FIA 4 COLUMN Workbook'!J17<>0,'FIA 4 COLUMN Workbook'!J17," ") -> 2 | C18: =IF('FIA 4 COLUMN Workbook'!J32<>0,'FIA 4 COLUMN Workbook'!J32," ") -> 51 | D18: =IF('FIA 4 COLUMN Workbook'!J47<>0,'FIA 4 COLUMN Workbook'!J47," ") -> 16 | E18: =IF('FIA 4 COLUMN Workbook'!J62<>0,'FIA 4 COLUMN Workbook'!J62," ") -> 42
A19: 0.20833333 | B19: =IF('FIA 4 COLUMN Workbook'!J18<>0,'FIA 4 COLUMN Workbook'!J18," ") -> 58 | C19: =IF('FIA 4 COLUMN Workbook'!J33<>0,'FIA 4 COLUMN Workbook'!J33," ") -> 27 | D19: =IF('FIA 4 COLUMN Workbook'!J48<>0,'FIA 4 COLUMN Workbook'!J48," ") -> 48 | E19: =IF('FIA 4 COLUMN Workbook'!J63<>0,'FIA 4 COLUMN Workbook'!J63," ") -> 55
A20: 0.22916667 | B20: =IF('FIA 4 COLUMN Workbook'!J19<>0,'FIA 4 COLUMN Workbook'!J19," ") -> 46 | C20: =IF('FIA 4 COLUMN Workbook'!J34<>0,'FIA 4 COLUMN Workbook'!J34," ") -> 1 | D20: =IF('FIA 4 COLUMN Workbook'!J49<>0,'FIA 4 COLUMN Workbook'!J49," ") -> 49 | E20: =IF('FIA 4 COLUMN Workbook'!J64<>0,'FIA 4 COLUMN Workbook'!J64," ") -> 43
A22: You may swap with another person. Alert Pit Admin of swaps by 4:00pm on [DAY].
A23: Please be on time to your appointment! Meet outside the interview room 10 minutes proir to your time slot.
A25: Important:
A26: Each team has 7 minutes for presentations and 5 minutes for questions. Set-up time is included in your 7 minutes. Teams with a translator/interpreter will recieve additional time.

Sheet FLA 1 COLUMN Workbook
A1: WORKSPACE
A2: Paste info from CSV from judging portal in the table below, do not include header, up to 15 teams. | I2: REMINDER! Please do not edit any content below. If you need to make changes, please edit in the workbook.
A3: If more space is needed, use additional tables. If less space is needed, delete any rows not in use.
A4: Team Number | B4: Student Name | C4: C&R? | D4: Lead Coach 1 Email | E4: Lead Coach 2 First Name | F4: Lead Coach 2 Last Name | G4: Lead Coach 2 Email | I4: Automated Randomizer | N4: Automated Randomizer
A5: 1 | B5: 1 | C5: Yes | I5: 1 | J5: {=_xlfn.SORTBY(O5:Q19,R5:R19,-1)} -> 12 | K5: 12 | L5: Yes | N5: 1 | O5: =A5 -> 1 | P5: =B5 -> 1 | Q5: =C5 -> Yes | R5: =IF(P5=0,0,RAND()) -> 0.24261487
A6: 2 | B6: 2 | C6: No | I6: 2 | J6: 2 | K6: 2 | L6: No | N6: 2 | O6: =A6 -> 2 | P6: =B6 -> 2 | Q6: =C6 -> No | R6: =IF(P6=0,0,RAND()) -> 0.81802282
A7: 3 | B7: 3 | C7: No | I7: 3 | J7: 15 | K7: 15 | L7: Yes | N7: 3 | O7: =A7 -> 3 | P7: =B7 -> 3 | Q7: =C7 -> No | R7: =IF(P7=0,0,RAND()) -> 0.25854762
A8: 4 | B8: 4 | C8: No | I8: 4 | J8: 11 | K8: 11 | L8: Yes | N8: 4 | O8: =A8 -> 4 | P8: =B8 -> 4 | Q8: =C8 -> No | R8: =IF(P8=0,0,RAND()) -> 0.30305119
A9: 5 | B9: 5 | C9: No | I9: 5 | J9: 8 | K9: 8 | L9: Yes | N9: 5 | O9: =A9 -> 5 | P9: =B9 -> 5 | Q9: =C9 -> No | R9: =IF(P9=0,0,RAND()) -> 0.46375949
A10: 6 | B10: 6 | C10: No | I10: 6 | J10: 5 | K10: 5 | L10: No | N10: 6 | O10: =A10 -> 6 | P10: =B10 -> 6 | Q10: =C10 -> No | R10: =IF(P10=0,0,RAND()) -> 0.14843114
A11: 7 | B11: 7 | C11: No | I11: 7 | J11: 14 | K11: 14 | L11: Yes | N11: 7 | O11: =A11 -> 7 | P11: =B11 -> 7 | Q11: =C11 -> No | R11: =IF(P11=0,0,RAND()) -> 0.069346105
A12: 8 | B12: 8 | C12: Yes | I12: 8 | J12: 13 | K12: 13 | L12: Yes | N12: 8 | O12: =A12 -> 8 | P12: =B12 -> 8 | Q12: =C12 -> Yes | R12: =IF(P12=0,0,RAND()) -> 0.6226999
A13: 9 | B13: 9 | C13: Yes | I13: 9 | J13: 4 | K13: 4 | L13: No | N13: 9 | O13: =A13 -> 9 | P13: =B13 -> 9 | Q13: =C13 -> Yes | R13: =IF(P13=0,0,RAND()) -> 0.014854735
A14: 10 | B14: 10 | C14: Yes | I14: 10 | J14: 3 | K14: 3 | L14: No | N14: 10 | O14: =A14 -> 10 | P14: =B14 -> 10 | Q14: =C14 -> Yes | R14: =IF(P14=0,0,RAND()) -> 0.070480701
A15: 11 | B15: 11 | C15: Yes | I15: 11 | J15: 1 | K15: 1 | L15: Yes | N15: 11 | O15: =A15 -> 11 | P15: =B15 -> 11 | Q15: =C15 -> Yes | R15: =IF(P15=0,0,RAND()) -> 0.7040889
A16: 12 | B16: 12 | C16: Yes | I16: 12 | J16: 6 | K16: 6 | L16: No | N16: 12 | O16: =A16 -> 12 | P16: =B16 -> 12 | Q16: =C16 -> Yes | R16: =IF(P16=0,0,RAND()) -> 0.82654554
A17: 13 | B17: 13 | C17: Yes | I17: 13 | J17: 10 | K17: 10 | L17: Yes | N17: 13 | O17: =A17 -> 13 | P17: =B17 -> 13 | Q17: =C17 -> Yes | R17: =IF(P17=0,0,RAND()) -> 0.34976843
... A19: 15 | B19: 15 | C19: Yes | I19: 15 | J19: 9 | K19: 9 | L19: Yes | N19: 15 | O19: =A19 -> 15 | P19: =B19 -> 15 | Q19: =C19 -> Yes | R19: =IF(P19=0,0,RAND()) -> 0.79648797

Sheet FLA 1 COLUMN Print Page
A1: FIRST Impact Award Judging
A2: [EVENT NAME]
A4: Time | B4: [DAYS/ROOMS]
B5: Team | C5: Student | D5: C&R? | F5: REMINDER!
A6: 0.39583333 | B6: =IF('FLA 1 COLUMN Workbook'!J5<>0,'FLA 1 COLUMN Workbook'!J5," ") -> 12 | C6: =IF('FLA 1 COLUMN Workbook'!K5<>0,'FLA 1 COLUMN Workbook'!K5," ") -> 12 | D6: =IF('FLA 1 COLUMN Workbook'!L5<>0,'FLA 1 COLUMN Workbook'!L5," ") -> Yes | F6: The only things you should be editing on this page are the EVENT NAME, DAY/ROOM slots, TIMES, and DAY students must notify pit admin.
A7: 0.41666667 | B7: =IF('FLA 1 COLUMN Workbook'!J6<>0,'FLA 1 COLUMN Workbook'!J6," ") -> 2 | C7: =IF('FLA 1 COLUMN Workbook'!K6<>0,'FLA 1 COLUMN Workbook'!K6," ") -> 2 | D7: =IF('FLA 1 COLUMN Workbook'!L6<>0,'FLA 1 COLUMN Workbook'!L6," ") -> No
A8: 0.4375 | B8: =IF('FLA 1 COLUMN Workbook'!J7<>0,'FLA 1 COLUMN Workbook'!J7," ") -> 15 | C8: =IF('FLA 1 COLUMN Workbook'!K7<>0,'FLA 1 COLUMN Workbook'!K7," ") -> 15 | D8: =IF('FLA 1 COLUMN Workbook'!L7<>0,'FLA 1 COLUMN Workbook'!L7," ") -> Yes
A9: 0.45833333 | B9: =IF('FLA 1 COLUMN Workbook'!J8<>0,'FLA 1 COLUMN Workbook'!J8," ") -> 11 | C9: =IF('FLA 1 COLUMN Workbook'!K8<>0,'FLA 1 COLUMN Workbook'!K8," ") -> 11 | D9: =IF('FLA 1 COLUMN Workbook'!L8<>0,'FLA 1 COLUMN Workbook'!L8," ") -> Yes
A10: 0.47916667 | B10: =IF('FLA 1 COLUMN Workbook'!J9<>0,'FLA 1 COLUMN Workbook'!J9," ") -> 8 | C10: =IF('FLA 1 COLUMN Workbook'!K9<>0,'FLA 1 COLUMN Workbook'!K9," ") -> 8 | D10: =IF('FLA 1 COLUMN Workbook'!L9<>0,'FLA 1 COLUMN Workbook'!L9," ") -> Yes
A11: Lunch | F11: If you notice and error or have to change a student name, team number, or C&R form information, please edit it in the WORKBOOK tab.
A12: 0.041666667 | B12: =IF('FLA 1 COLUMN Workbook'!J10<>0,'FLA 1 COLUMN Workbook'!J10," ") -> 5 | C12: =IF('FLA 1 COLUMN Workbook'!K10<>0,'FLA 1 COLUMN Workbook'!K10," ") -> 5 | D12: =IF('FLA 1 COLUMN Workbook'!L10<>0,'FLA 1 COLUMN Workbook'!L10," ") -> No
A13: 0.0625 | B13: =IF('FLA 1 COLUMN Workbook'!J11<>0,'FLA 1 COLUMN Workbook'!J11," ") -> 14 | C13: =IF('FLA 1 COLUMN Workbook'!K11<>0,'FLA 1 COLUMN Workbook'!K11," ") -> 14 | D13: =IF('FLA 1 COLUMN Workbook'!L11<>0,'FLA 1 COLUMN Workbook'!L11," ") -> Yes
A14: 0.083333333 | B14: =IF('FLA 1 COLUMN Workbook'!J12<>0,'FLA 1 COLUMN Workbook'!J12," ") -> 13 | C14: =IF('FLA 1 COLUMN Workbook'!K12<>0,'FLA 1 COLUMN Workbook'!K12," ") -> 13 | D14: =IF('FLA 1 COLUMN Workbook'!L12<>0,'FLA 1 COLUMN Workbook'!L12," ") -> Yes
A15: 0.10416667 | B15: =IF('FLA 1 COLUMN Workbook'!J13<>0,'FLA 1 COLUMN Workbook'!J13," ") -> 4 | C15: =IF('FLA 1 COLUMN Workbook'!K13<>0,'FLA 1 COLUMN Workbook'!K13," ") -> 4 | D15: =IF('FLA 1 COLUMN Workbook'!L13<>0,'FLA 1 COLUMN Workbook'!L13," ") -> No
A16: 0.125 | B16: =IF('FLA 1 COLUMN Workbook'!J14<>0,'FLA 1 COLUMN Workbook'!J14," ") -> 3 | C16: =IF('FLA 1 COLUMN Workbook'!K14<>0,'FLA 1 COLUMN Workbook'!K14," ") -> 3 | D16: =IF('FLA 1 COLUMN Workbook'!L14<>0,'FLA 1 COLUMN Workbook'!L14," ") -> No
A17: 0.14583333 | B17: =IF('FLA 1 COLUMN Workbook'!J15<>0,'FLA 1 COLUMN Workbook'!J15," ") -> 1 | C17: =IF('FLA 1 COLUMN Workbook'!K15<>0,'FLA 1 COLUMN Workbook'!K15," ") -> 1 | D17: =IF('FLA 1 COLUMN Workbook'!L15<>0,'FLA 1 COLUMN Workbook'!L15," ") -> Yes
A18: 0.16666667 | B18: =IF('FLA 1 COLUMN Workbook'!J16<>0,'FLA 1 COLUMN Workbook'!J16," ") -> 6 | C18: =IF('FLA 1 COLUMN Workbook'!K16<>0,'FLA 1 COLUMN Workbook'!K16," ") -> 6 | D18: =IF('FLA 1 COLUMN Workbook'!L16<>0,'FLA 1 COLUMN Workbook'!L16," ") -> No
A19: 0.1875 | B19: =IF('FLA 1 COLUMN Workbook'!J17<>0,'FLA 1 COLUMN Workbook'!J17," ") -> 10 | C19: =IF('FLA 1 COLUMN Workbook'!K17<>0,'FLA 1 COLUMN Workbook'!K17," ") -> 10 | D19: =IF('FLA 1 COLUMN Workbook'!L17<>0,'FLA 1 COLUMN Workbook'!L17," ") -> Yes
A20: 0.20833333 | B20: =IF('FLA 1 COLUMN Workbook'!J18<>0,'FLA 1 COLUMN Workbook'!J18," ") -> 7 | C20: =IF('FLA 1 COLUMN Workbook'!K18<>0,'FLA 1 COLUMN Workbook'!K18," ") -> 7 | D20: =IF('FLA 1 COLUMN Workbook'!L18<>0,'FLA 1 COLUMN Workbook'!L18," ") -> No
A21: 0.22916667 | B21: =IF('FLA 1 COLUMN Workbook'!J19<>0,'FLA 1 COLUMN Workbook'!J19," ") -> 9 | C21: =IF('FLA 1 COLUMN Workbook'!K19<>0,'FLA 1 COLUMN Workbook'!K19," ") -> 9 | D21: =IF('FLA 1 COLUMN Workbook'!L19<>0,'FLA 1 COLUMN Workbook'!L19," ") -> Yes
A23: You may swap with another person. Alert Pit Admin of swaps by 4:00pm on [DAY].
A24: Please be on time to your appointment! Meet outside the interview room 10 minutes proir to your time slot.
A26: Important:
A27: You will have 6 to 10 minutes for your interview. Please adhere to the schedule so we can stay on track.

Sheet FLA 4 COLUMN Workbook
A1: WORKSPACE
A2: Paste info from CSV from judging portal in the table below, do not include header, up to 15 teams. | I2: REMINDER! Please do not edit any content below. If you need to make changes, please edit in the workbook.
A3: If more space is needed, use additional tables. If less space is needed, delete any rows not in use.
A4: Team Number | B4: Student Name | C4: C&R? | D4: Lead Coach 1 Email | E4: Lead Coach 2 First Name | F4: Lead Coach 2 Last Name | G4: Lead Coach 2 Email | I4: Automated Randomizer | N4: Automated Randomizer
A5: 1 | B5: 1 | C5: Yes | I5: 1 | J5: {=_xlfn.SORTBY(O5:Q64,R5:R64,-1)} -> 49 | K5: 49 | L5: No | N5: 1 | O5: =A5 -> 1 | P5: =B5 -> 1 | Q5: =C5 -> Yes | R5: =IF(P5=0,0,RAND()) -> 0.58585828
A6: 2 | B6: 2 | C6: No | I6: 2 | J6: 6 | K6: 6 | L6: No | N6: 2 | O6: =A6 -> 2 | P6: =B6 -> 2 | Q6: =C6 -> No | R6: =IF(P6=0,0,RAND()) -> 0.26434138
A7: 3 | B7: 3 | C7: Yes | I7: 3 | J7: 42 | K7: 42 | L7: Yes | N7: 3 | O7: =A7 -> 3 | P7: =B7 -> 3 | Q7: =C7 -> Yes | R7: =IF(P7=0,0,RAND()) -> 0.12292604
A8: 4 | B8: 4 | C8: No | I8: 4 | J8: 32 | K8: 32 | L8: No | N8: 4 | O8: =A8 -> 4 | P8: =B8 -> 4 | Q8: =C8 -> No | R8: =IF(P8=0,0,RAND()) -> 0.89524673
A9: 5 | B9: 5 | C9: Yes | I9: 5 | J9: 7 | K9: 7 | L9: Yes | N9: 5 | O9: =A9 -> 5 | P9: =B9 -> 5 | Q9: =C9 -> Yes | R9: =IF(P9=0,0,RAND()) -> 0.51819877
A10: 6 | B10: 6 | C10: No | I10: 6 | J10: 10 | K10: 10 | L10: No | N10: 6 | O10: =A10 -> 6 | P10: =B10 -> 6 | Q10: =C10 -> No | R10: =IF(P10=0,0,RAND()) -> 0.98936219
A11: 7 | B11: 7 | C11: Yes | I11: 7 | J11: 40 | K11: 40 | L11: No | N11: 7 | O11: =A11 -> 7 | P11: =B11 -> 7 | Q11: =C11 -> Yes | R11: =IF(P11=0,0,RAND()) -> 0.94410413
A12: 8 | B12: 8 | C12: No | I12: 8 | J12: 4 | K12: 4 | L12: No | N12: 8 | O12: =A12 -> 8 | P12: =B12 -> 8 | Q12: =C12 -> No | R12: =IF(P12=0,0,RAND()) -> 0.29403171
A13: 9 | B13: 9 | C13: Yes | I13: 9 | J13: 23 | K13: 23 | L13: Yes | N13: 9 | O13: =A13 -> 9 | P13: =B13 -> 9 | Q13: =C13 -> Yes | R13: =IF(P13=0,0,RAND()) -> 0.35082047
A14: 10 | B14: 10 | C14: No | I14: 10 | J14: 34 | K14: 34 | L14: No | N14: 10 | O14: =A14 -> 10 | P14: =B14 -> 10 | Q14: =C14 -> No | R14: =IF(P14=0,0,RAND()) -> 0.93142857
A15: 11 | B15: 11 | C15: Yes | I15: 11 | J15: 59 | K15: 59 | L15: Yes | N15: 11 | O15: =A15 -> 11 | P15: =B15 -> 11 | Q15: =C15 -> Yes | R15: =IF(P15=0,0,RAND()) -> 0.51176506
A16: 12 | B16: 12 | C16: No | I16: 12 | J16: 28 | K16: 28 | L16: Yes | N16: 12 | O16: =A16 -> 12 | P16: =B16 -> 12 | Q16: =C16 -> No | R16: =IF(P16=0,0,RAND()) -> 0.4892712
A17: 13 | B17: 13 | C17: Yes | I17: 13 | J17: 19 | K17: 19 | L17: Yes | N17: 13 | O17: =A17 -> 13 | P17: =B17 -> 13 | Q17: =C17 -> Yes | R17: =IF(P17=0,0,RAND()) -> 0.36703102
... A64: 60 | B64: 60 | C64: Yes | I64: 15 | J64: 30 | K64: 30 | L64: No | N64: 15 | O64: =A64 -> 60 | P64: =B64 -> 60 | Q64: =C64 -> Yes | R64: =IF(P64=0,0,RAND()) -> 0.087810857

Sheet FLA 4 COLUMN Print Page
A1: FIRST Impact Award Judging
A2: [EVENT NAME]
A4: Time | B4: [DAYS/ROOMS] | E4: [DAYS/ROOMS] | H4: [DAYS/ROOMS] | K4: [DAYS/ROOMS]
B5: Team | C5: Student | D5: C&R? | E5: Team | F5: Student | G5: C&R? | H5: Team | I5: Student | J5: C&R? | K5: Team | L5: Student | M5: C&R? | O5: REMINDER!
A6: 0.39583333 | B6: =IF('FLA 4 COLUMN Workbook'!J5<>0,'FLA 4 COLUMN Workbook'!J5," ") -> 49 | C6: =IF('FLA 4 COLUMN Workbook'!K5<>0,'FLA 4 COLUMN Workbook'!K5," ") -> 49 | D6: =IF('FLA 4 COLUMN Workbook'!L5<>0,'FLA 4 COLUMN Workbook'!L5," ") -> No | E6: =IF('FLA 4 COLUMN Workbook'!J20<>0,'FLA 4 COLUMN Workbook'!J20," ") -> 14 | F6: =IF('FLA 4 COLUMN Workbook'!K20<>0,'FLA 4 COLUMN Workbook'!K20," ") -> 14 | G6: =IF('FLA 4 COLUMN Workbook'!L20<>0,'FLA 4 COLUMN Workbook'!L20," ") -> Yes | H6: =IF('FLA 4 COLUMN Workbook'!J35<>0,'FLA 4 COLUMN Workbook'!J35," ") -> 11 | I6: =IF('FLA 4 COLUMN Workbook'!K35<>0,'FLA 4 COLUMN Workbook'!K35," ") -> 11 | J6: =IF('FLA 4 COLUMN Workbook'!L35<>0,'FLA 4 COLUMN Workbook'!L35," ") -> Yes | K6: =IF('FLA 4 COLUMN Workbook'!J50<>0,'FLA 4 COLUMN Workbook'!J50," ") -> 46 | L6: =IF('FLA 4 COLUMN Workbook'!K50<>0,'FLA 4 COLUMN Workbook'!K50," ") -> 46 | M6: =IF('FLA 4 COLUMN Workbook'!L50<>0,'FLA 4 COLUMN Workbook'!L50," ") -> Yes | O6: The only things you should be editing on this page are the EVENT NAME, DAY/ROOM slots, TIMES, and DAY students must notify pit admin.
A7: 0.41666667 | B7: =IF('FLA 4 COLUMN Workbook'!J6<>0,'FLA 4 COLUMN Workbook'!J6," ") -> 6 | C7: =IF('FLA 4 COLUMN Workbook'!K6<>0,'FLA 4 COLUMN Workbook'!K6," ") -> 6 | D7: =IF('FLA 4 COLUMN Workbook'!L6<>0,'FLA 4 COLUMN Workbook'!L6," ") -> No | E7: =IF('FLA 4 COLUMN Workbook'!J21<>0,'FLA 4 COLUMN Workbook'!J21," ") -> 27 | F7: =IF('FLA 4 COLUMN Workbook'!K21<>0,'FLA 4 COLUMN Workbook'!K21," ") -> 27 | G7: =IF('FLA 4 COLUMN Workbook'!L21<>0,'FLA 4 COLUMN Workbook'!L21," ") -> Yes | H7: =IF('FLA 4 COLUMN Workbook'!J36<>0,'FLA 4 COLUMN Workbook'!J36," ") -> 17 | I7: =IF('FLA 4 COLUMN Workbook'!K36<>0,'FLA 4 COLUMN Workbook'!K36," ") -> 17 | J7: =IF('FLA 4 COLUMN Workbook'!L36<>0,'FLA 4 COLUMN Workbook'!L36," ") -> Yes | K7: =IF('FLA 4 COLUMN Workbook'!J51<>0,'FLA 4 COLUMN Workbook'!J51," ") -> 8 | L7: =IF('FLA 4 COLUMN Workbook'!K51<>0,'FLA 4 COLUMN Workbook'!K51," ") -> 8 | M7: =IF('FLA 4 COLUMN Workbook'!L51<>0,'FLA 4 COLUMN Workbook'!L51," ") -> No
A8: 0.4375 | B8: =IF('FLA 4 COLUMN Workbook'!J7<>0,'FLA 4 COLUMN Workbook'!J7," ") -> 42 | C8: =IF('FLA 4 COLUMN Workbook'!K7<>0,'FLA 4 COLUMN Workbook'!K7," ") -> 42 | D8: =IF('FLA 4 COLUMN Workbook'!L7<>0,'FLA 4 COLUMN Workbook'!L7," ") -> Yes | E8: =IF('FLA 4 COLUMN Workbook'!J22<>0,'FLA 4 COLUMN Workbook'!J22," ") -> 37 | F8: =IF('FLA 4 COLUMN Workbook'!K22<>0,'FLA 4 COLUMN Workbook'!K22," ") -> 37 | G8: =IF('FLA 4 COLUMN Workbook'!L22<>0,'FLA 4 COLUMN Workbook'!L22," ") -> No | H8: =IF('FLA 4 COLUMN Workbook'!J37<>0,'FLA 4 COLUMN Workbook'!J37," ") -> 12 | I8: =IF('FLA 4 COLUMN Workbook'!K37<>0,'FLA 4 COLUMN Workbook'!K37," ") -> 12 | J8: =IF('FLA 4 COLUMN Workbook'!L37<>0,'FLA 4 COLUMN Workbook'!L37," ") -> No | K8: =IF('FLA 4 COLUMN Workbook'!J52<>0,'FLA 4 COLUMN Workbook'!J52," ") -> 43 | L8: =IF('FLA 4 COLUMN Workbook'!K52<>0,'FLA 4 COLUMN Workbook'!K52," ") -> 43 | M8: =IF('FLA 4 COLUMN Workbook'!L52<>0,'FLA 4 COLUMN Workbook'!L52," ") -> Yes
A9: 0.45833333 | B9: =IF('FLA 4 COLUMN Workbook'!J8<>0,'FLA 4 COLUMN Workbook'!J8," ") -> 32 | C9: =IF('FLA 4 COLUMN Workbook'!K8<>0,'FLA 4 COLUMN Workbook'!K8," ") -> 32 | D9: =IF('FLA 4 COLUMN Workbook'!L8<>0,'FLA 4 COLUMN Workbook'!L8," ") -> No | E9: =IF('FLA 4 COLUMN Workbook'!J23<>0,'FLA 4 COLUMN Workbook'!J23," ") -> 18 | F9: =IF('FLA 4 COLUMN Workbook'!K23<>0,'FLA 4 COLUMN Workbook'!K23," ") -> 18 | G9: =IF('FLA 4 COLUMN Workbook'!L23<>0,'FLA 4 COLUMN Workbook'!L23," ") -> Yes | H9: =IF('FLA 4 COLUMN Workbook'!J38<>0,'FLA 4 COLUMN Workbook'!J38," ") -> 16 | I9: =IF('FLA 4 COLUMN Workbook'!K38<>0,'FLA 4 COLUMN Workbook'!K38," ") -> 16 | J9: =IF('FLA 4 COLUMN Workbook'!L38<>0,'FLA 4 COLUMN Workbook'!L38," ") -> No | K9: =IF('FLA 4 COLUMN Workbook'!J53<>0,'FLA 4 COLUMN Workbook'!J53," ") -> 2 | L9: =IF('FLA 4 COLUMN Workbook'!K53<>0,'FLA 4 COLUMN Workbook'!K53," ") -> 2 | M9: =IF('FLA 4 COLUMN Workbook'!L53<>0,'FLA 4 COLUMN Workbook'!L53," ") -> No
A10: 0.47916667 | B10: =IF('FLA 4 COLUMN Workbook'!J9<>0,'FLA 4 COLUMN Workbook'!J9," ") -> 7 | C10: =IF('FLA 4 COLUMN Workbook'!K9<>0,'FLA 4 COLUMN Workbook'!K9," ") -> 7 | D10: =IF('FLA 4 COLUMN Workbook'!L9<>0,'FLA 4 COLUMN Workbook'!L9," ") -> Yes | E10: =IF('FLA 4 COLUMN Workbook'!J24<>0,'FLA 4 COLUMN Workbook'!J24," ") -> 53 | F10: =IF('FLA 4 COLUMN Workbook'!K24<>0,'FLA 4 COLUMN Workbook'!K24," ") -> 53 | G10: =IF('FLA 4 COLUMN Workbook'!L24<>0,'FLA 4 COLUMN Workbook'!L24," ") -> Yes | H10: =IF('FLA 4 COLUMN Workbook'!J39<>0,'FLA 4 COLUMN Workbook'!J39," ") -> 36 | I10: =IF('FLA 4 COLUMN Workbook'!K39<>0,'FLA 4 COLUMN Workbook'!K39," ") -> 36 | J10: =IF('FLA 4 COLUMN Workbook'!L39<>0,'FLA 4 COLUMN Workbook'!L39," ") -> No | K10: =IF('FLA 4 COLUMN Workbook'!J54<>0,'FLA 4 COLUMN Workbook'!J54," ") -> 41 | L10: =IF('FLA 4 COLUMN Workbook'!K54<>0,'FLA 4 COLUMN Workbook'!K54," ") -> 41 | M10: =IF('FLA 4 COLUMN Workbook'!L54<>0,'FLA 4 COLUMN Workbook'!L54," ") -> No
A11: Lunch | O11: If you notice and error or have to change a student name, team number, or C&R form information, please edit it in the WORKBOOK tab.
A12: 0.041666667 | B12: =IF('FLA 4 COLUMN Workbook'!J10<>0,'FLA 4 COLUMN Workbook'!J10," ") -> 10 | C12: =IF('FLA 4 COLUMN Workbook'!K10<>0,'FLA 4 COLUMN Workbook'!K10," ") -> 10 | D12: =IF('FLA 4 COLUMN Workbook'!L10<>0,'FLA 4 COLUMN Workbook'!L10," ") -> No | E12: =IF('FLA 4 COLUMN Workbook'!J25<>0,'FLA 4 COLUMN Workbook'!J25," ") -> 54 | F12: =IF('FLA 4 COLUMN Workbook'!K25<>0,'FLA 4 COLUMN Workbook'!K25," ") -> 54 | G12: =IF('FLA 4 COLUMN Workbook'!L25<>0,'FLA 4 COLUMN Workbook'!L25," ") -> Yes | H12: =IF('FLA 4 COLUMN Workbook'!J40<>0,'FLA 4 COLUMN Workbook'!J40," ") -> 20 | I12: =IF('FLA 4 COLUMN Workbook'!K40<>0,'FLA 4 COLUMN Workbook'!K40," ") -> 20 | J12: =IF('FLA 4 COLUMN Workbook'!L40<>0,'FLA 4 COLUMN Workbook'!L40," ") -> Yes | K12: =IF('FLA 4 COLUMN Workbook'!J55<>0,'FLA 4 COLUMN Workbook'!J55," ") -> 50 | L12: =IF('FLA 4 COLUMN Workbook'!K55<>0,'FLA 4 COLUMN Workbook'!K55," ") -> 50 | M12: =IF('FLA 4 COLUMN Workbook'!L55<>0,'FLA 4 COLUMN Workbook'!L55," ") -> No
A13: 0.0625 | B13: =IF('FLA 4 COLUMN Workbook'!J11<>0,'FLA 4 COLUMN Workbook'!J11," ") -> 40 | C13: =IF('FLA 4 COLUMN Workbook'!K11<>0,'FLA 4 COLUMN Workbook'!K11," ") -> 40 | D13: =IF('FLA 4 COLUMN Workbook'!L11<>0,'FLA 4 COLUMN Workbook'!L11," ") -> No | E13: =IF('FLA 4 COLUMN Workbook'!J26<>0,'FLA 4 COLUMN Workbook'!J26," ") -> 45 | F13: =IF('FLA 4 COLUMN Workbook'!K26<>0,'FLA 4 COLUMN Workbook'!K26," ") -> 45 | G13: =IF('FLA 4 COLUMN Workbook'!L26<>0,'FLA 4 COLUMN Workbook'!L26," ") -> Yes | H13: =IF('FLA 4 COLUMN Workbook'!J41<>0,'FLA 4 COLUMN Workbook'!J41," ") -> 51 | I13: =IF('FLA 4 COLUMN Workbook'!K41<>0,'FLA 4 COLUMN Workbook'!K41," ") -> 51 | J13: =IF('FLA 4 COLUMN Workbook'!L41<>0,'FLA 4 COLUMN Workbook'!L41," ") -> Yes | K13: =IF('FLA 4 COLUMN Workbook'!J56<>0,'FLA 4 COLUMN Workbook'!J56," ") -> 29 | L13: =IF('FLA 4 COLUMN Workbook'!K56<>0,'FLA 4 COLUMN Workbook'!K56," ") -> 29 | M13: =IF('FLA 4 COLUMN Workbook'!L56<>0,'FLA 4 COLUMN Workbook'!L56," ") -> Yes
A14: 0.083333333 | B14: =IF('FLA 4 COLUMN Workbook'!J12<>0,'FLA 4 COLUMN Workbook'!J12," ") -> 4 | C14: =IF('FLA 4 COLUMN Workbook'!K12<>0,'FLA 4 COLUMN Workbook'!K12," ") -> 4 | D14: =IF('FLA 4 COLUMN Workbook'!L12<>0,'FLA 4 COLUMN Workbook'!L12," ") -> No | E14: =IF('FLA 4 COLUMN Workbook'!J27<>0,'FLA 4 COLUMN Workbook'!J27," ") -> 38 | F14: =IF('FLA 4 COLUMN Workbook'!K27<>0,'FLA 4 COLUMN Workbook'!K27," ") -> 38 | G14: =IF('FLA 4 COLUMN Workbook'!L27<>0,'FLA 4 COLUMN Workbook'!L27," ") -> No | H14: =IF('FLA 4 COLUMN Workbook'!J42<>0,'FLA 4 COLUMN Workbook'!J42," ") -> 47 | I14: =IF('FLA 4 COLUMN Workbook'!K42<>0,'FLA 4 COLUMN Workbook'!K42," ") -> 47 | J14: =IF('FLA 4 COLUMN Workbook'!L42<>0,'FLA 4 COLUMN Workbook'!L42," ") -> No | K14: =IF('FLA 4 COLUMN Workbook'!J57<>0,'FLA 4 COLUMN Workbook'!J57," ") -> 15 | L14: =IF('FLA 4 COLUMN Workbook'!K57<>0,'FLA 4 COLUMN Workbook'!K57," ") -> 15 | M14: =IF('FLA 4 COLUMN Workbook'!L57<>0,'FLA 4 COLUMN Workbook'!L57," ") -> No
A15: 0.10416667 | B15: =IF('FLA 4 COLUMN Workbook'!J13<>0,'FLA 4 COLUMN Workbook'!J13," ") -> 23 | C15: =IF('FLA 4 COLUMN Workbook'!K13<>0,'FLA 4 COLUMN Workbook'!K13," ") -> 23 | D15: =IF('FLA 4 COLUMN Workbook'!L13<>0,'FLA 4 COLUMN Workbook'!L13," ") -> Yes | E15: =IF('FLA 4 COLUMN Workbook'!J28<>0,'FLA 4 COLUMN Workbook'!J28," ") -> 57 | F15: =IF('FLA 4 COLUMN Workbook'!K28<>0,'FLA 4 COLUMN Workbook'!K28," ") -> 57 | G15: =IF('FLA 4 COLUMN Workbook'!L28<>0,'FLA 4 COLUMN Workbook'!L28," ") -> Yes | H15: =IF('FLA 4 COLUMN Workbook'!J43<>0,'FLA 4 COLUMN Workbook'!J43," ") -> 48 | I15: =IF('FLA 4 COLUMN Workbook'!K43<>0,'FLA 4 COLUMN Workbook'!K43," ") -> 48 | J15: =IF('FLA 4 COLUMN Workbook'!L43<>0,'FLA 4 COLUMN Workbook'!L43," ") -> No | K15: =IF('FLA 4 COLUMN Workbook'!J58<>0,'FLA 4 COLUMN Workbook'!J58," ") -> 58 | L15: =IF('FLA 4 COLUMN Workbook'!K58<>0,'FLA 4 COLUMN Workbook'!K58," ") -> 58 | M15: =IF('FLA 4 COLUMN Workbook'!L58<>0,'FLA 4 COLUMN Workbook'!L58," ") -> Yes
A16: 0.125 | B16: =IF('FLA 4 COLUMN Workbook'!J14<>0,'FLA 4 COLUMN Workbook'!J14," ") -> 34 | C16: =IF('FLA 4 COLUMN Workbook'!K14<>0,'FLA 4 COLUMN Workbook'!K14," ") -> 34 | D16: =IF('FLA 4 COLUMN Workbook'!L14<>0,'FLA 4 COLUMN Workbook'!L14," ") -> No | E16: =IF('FLA 4 COLUMN Workbook'!J29<>0,'FLA 4 COLUMN Workbook'!J29," ") -> 39 | F16: =IF('FLA 4 COLUMN Workbook'!K29<>0,'FLA 4 COLUMN Workbook'!K29," ") -> 39 | G16: =IF('FLA 4 COLUMN Workbook'!L29<>0,'FLA 4 COLUMN Workbook'!L29," ") -> No | H16: =IF('FLA 4 COLUMN Workbook'!J44<>0,'FLA 4 COLUMN Workbook'!J44," ") -> 35 | I16: =IF('FLA 4 COLUMN Workbook'!K44<>0,'FLA 4 COLUMN Workbook'!K44," ") -> 35 | J16: =IF('FLA 4 COLUMN Workbook'!L44<>0,'FLA 4 COLUMN Workbook'!L44," ") -> No | K16: =IF('FLA 4 COLUMN Workbook'!J59<>0,'FLA 4 COLUMN Workbook'!J59," ") -> 52 | L16: =IF('FLA 4 COLUMN Workbook'!K59<>0,'FLA 4 COLUMN Workbook'!K59," ") -> 52 | M16: =IF('FLA 4 COLUMN Workbook'!L59<>0,'FLA 4 COLUMN Workbook'!L59," ") -> Yes
A17: 0.14583333 | B17: =IF('FLA 4 COLUMN Workbook'!J15<>0,'FLA 4 COLUMN Workbook'!J15," ") -> 59 | C17: =IF('FLA 4 COLUMN Workbook'!K15<>0,'FLA 4 COLUMN Workbook'!K15," ") -> 59 | D17: =IF('FLA 4 COLUMN Workbook'!L15<>0,'FLA 4 COLUMN Workbook'!L15," ") -> Yes | E17: =IF('FLA 4 COLUMN Workbook'!J30<>0,'FLA 4 COLUMN Workbook'!J30," ") -> 1 | F17: =IF('FLA 4 COLUMN Workbook'!K30<>0,'FLA 4 COLUMN Workbook'!K30," ") -> 1 | G17: =IF('FLA 4 COLUMN Workbook'!L30<>0,'FLA 4 COLUMN Workbook'!L30," ") -> Yes | H17: =IF('FLA 4 COLUMN Workbook'!J45<>0,'FLA 4 COLUMN Workbook'!J45," ") -> 25 | I17: =IF('FLA 4 COLUMN Workbook'!K45<>0,'FLA 4 COLUMN Workbook'!K45," ") -> 25 | J17: =IF('FLA 4 COLUMN Workbook'!L45<>0,'FLA 4 COLUMN Workbook'!L45," ") -> Yes | K17: =IF('FLA 4 COLUMN Workbook'!J60<>0,'FLA 4 COLUMN Workbook'!J60," ") -> 55 | L17: =IF('FLA 4 COLUMN Workbook'!K60<>0,'FLA 4 COLUMN Workbook'!K60," ") -> 55 | M17: =IF('FLA 4 COLUMN Workbook'!L60<>0,'FLA 4 COLUMN Workbook'!L60," ") -> Yes
A18: 0.16666667 | B18: =IF('FLA 4 COLUMN Workbook'!J16<>0,'FLA 4 COLUMN Workbook'!J16," ") -> 28 | C18: =IF('FLA 4 COLUMN Workbook'!K16<>0,'FLA 4 COLUMN Workbook'!K16," ") -> 28 | D18: =IF('FLA 4 COLUMN Workbook'!L16<>0,'FLA 4 COLUMN Workbook'!L16," ") -> Yes | E18: =IF('FLA 4 COLUMN Workbook'!J31<>0,'FLA 4 COLUMN Workbook'!J31," ") -> 33 | F18: =IF('FLA 4 COLUMN Workbook'!K31<>0,'FLA 4 COLUMN Workbook'!K31," ") -> 33 | G18: =IF('FLA 4 COLUMN Workbook'!L31<>0,'FLA 4 COLUMN Workbook'!L31," ") -> No | H18: =IF('FLA 4 COLUMN Workbook'!J46<>0,'FLA 4 COLUMN Workbook'!J46," ") -> 21 | I18: =IF('FLA 4 COLUMN Workbook'!K46<>0,'FLA 4 COLUMN Workbook'!K46," ") -> 21 | J18: =IF('FLA 4 COLUMN Workbook'!L46<>0,'FLA 4 COLUMN Workbook'!L46," ") -> Yes | K18: =IF('FLA 4 COLUMN Workbook'!J61<>0,'FLA 4 COLUMN Workbook'!J61," ") -> 3 | L18: =IF('FLA 4 COLUMN Workbook'!K61<>0,'FLA 4 COLUMN Workbook'!K61," ") -> 3 | M18: =IF('FLA 4 COLUMN Workbook'!L61<>0,'FLA 4 COLUMN Workbook'!L61," ") -> Yes
A19: 0.1875 | B19: =IF('FLA 4 COLUMN Workbook'!J17<>0,'FLA 4 COLUMN Workbook'!J17," ") -> 19 | C19: =IF('FLA 4 COLUMN Workbook'!K17<>0,'FLA 4 COLUMN Workbook'!K17," ") -> 19 | D19: =IF('FLA 4 COLUMN Workbook'!L17<>0,'FLA 4 COLUMN Workbook'!L17," ") -> Yes | E19: =IF('FLA 4 COLUMN Workbook'!J32<>0,'FLA 4 COLUMN Workbook'!J32," ") -> 44 | F19: =IF('FLA 4 COLUMN Workbook'!K32<>0,'FLA 4 COLUMN Workbook'!K32," ") -> 44 | G19: =IF('FLA 4 COLUMN Workbook'!L32<>0,'FLA 4 COLUMN Workbook'!L32," ") -> Yes | H19: =IF('FLA 4 COLUMN Workbook'!J47<>0,'FLA 4 COLUMN Workbook'!J47," ") -> 13 | I19: =IF('FLA 4 COLUMN Workbook'!K47<>0,'FLA 4 COLUMN Workbook'!K47," ") -> 13 | J19: =IF('FLA 4 COLUMN Workbook'!L47<>0,'FLA 4 COLUMN Workbook'!L47," ") -> Yes | K19: =IF('FLA 4 COLUMN Workbook'!J62<>0,'FLA 4 COLUMN Workbook'!J62," ") -> 60 | L19: =IF('FLA 4 COLUMN Workbook'!K62<>0,'FLA 4 COLUMN Workbook'!K62," ") -> 60 | M19: =IF('FLA 4 COLUMN Workbook'!L62<>0,'FLA 4 COLUMN Workbook'!L62," ") -> Yes
A20: 0.20833333 | B20: =IF('FLA 4 COLUMN Workbook'!J18<>0,'FLA 4 COLUMN Workbook'!J18," ") -> 26 | C20: =IF('FLA 4 COLUMN Workbook'!K18<>0,'FLA 4 COLUMN Workbook'!K18," ") -> 26 | D20: =IF('FLA 4 COLUMN Workbook'!L18<>0,'FLA 4 COLUMN Workbook'!L18," ") -> Yes | E20: =IF('FLA 4 COLUMN Workbook'!J33<>0,'FLA 4 COLUMN Workbook'!J33," ") -> 5 | F20: =IF('FLA 4 COLUMN Workbook'!K33<>0,'FLA 4 COLUMN Workbook'!K33," ") -> 5 | G20: =IF('FLA 4 COLUMN Workbook'!L33<>0,'FLA 4 COLUMN Workbook'!L33," ") -> Yes | H20: =IF('FLA 4 COLUMN Workbook'!J48<>0,'FLA 4 COLUMN Workbook'!J48," ") -> 9 | I20: =IF('FLA 4 COLUMN Workbook'!K48<>0,'FLA 4 COLUMN Workbook'!K48," ") -> 9 | J20: =IF('FLA 4 COLUMN Workbook'!L48<>0,'FLA 4 COLUMN Workbook'!L48," ") -> Yes | K20: =IF('FLA 4 COLUMN Workbook'!J63<>0,'FLA 4 COLUMN Workbook'!J63," ") -> 56 | L20: =IF('FLA 4 COLUMN Workbook'!K63<>0,'FLA 4 COLUMN Workbook'!K63," ") -> 56 | M20: =IF('FLA 4 COLUMN Workbook'!L63<>0,'FLA 4 COLUMN Workbook'!L63," ") -> Yes
A21: 0.22916667 | B21: =IF('FLA 4 COLUMN Workbook'!J19<>0,'FLA 4 COLUMN Workbook'!J19," ") -> 24 | C21: =IF('FLA 4 COLUMN Workbook'!K19<>0,'FLA 4 COLUMN Workbook'!K19," ") -> 24 | D21: =IF('FLA 4 COLUMN Workbook'!L19<>0,'FLA 4 COLUMN Workbook'!L19," ") -> Yes | E21: =IF('FLA 4 COLUMN Workbook'!J34<>0,'FLA 4 COLUMN Workbook'!J34," ") -> 31 | F21: =IF('FLA 4 COLUMN Workbook'!K34<>0,'FLA 4 COLUMN Workbook'!K34," ") -> 31 | G21: =IF('FLA 4 COLUMN Workbook'!L34<>0,'FLA 4 COLUMN Workbook'!L34," ") -> Yes | H21: =IF('FLA 4 COLUMN Workbook'!J49<>0,'FLA 4 COLUMN Workbook'!J49," ") -> 22 | I21: =IF('FLA 4 COLUMN Workbook'!K49<>0,'FLA 4 COLUMN Workbook'!K49," ") -> 22 | J21: =IF('FLA 4 COLUMN Workbook'!L49<>0,'FLA 4 COLUMN Workbook'!L49," ") -> Yes | K21: =IF('FLA 4 COLUMN Workbook'!J64<>0,'FLA 4 COLUMN Workbook'!J64," ") -> 30 | L21: =IF('FLA 4 COLUMN Workbook'!K64<>0,'FLA 4 COLUMN Workbook'!K64," ") -> 30 | M21: =IF('FLA 4 COLUMN Workbook'!L64<>0,'FLA 4 COLUMN Workbook'!L64," ") -> No
A23: You may swap with another person. Alert Pit Admin of swaps by 4:00pm on [DAY].
A24: Please be on time to your appointment! Meet outside the interview room 10 minutes proir to your time slot.
A26: Important:
A27: You will have 6 to 10 minutes for your interview. Please adhere to the schedule so we can stay on track.
