Workbook

Sheet Directions
A1: Separate Judge Teams - Interview MA or TA (not both)
B3: Setting Up the Sheet - Pre-Event
B4: 1. Fill in the Team List tab
C5: • Paste the team list onto the tab
C6: • Fill in the # of judge pairings you would like to have the team list divided into. This then divides teams into groups and populates groupings on the Judge Pairings tab
B8: 2. Fill in the Judge Pairings tab
C9: • Assign judges to pairs and list them on the tab. Be sure to place names in the correct cells & remember to try to pair rookie judges with veterans when possible. Use the experience column to track those who are Veterans (V) or Rookies (R)
C10: • You will notice that the judge pairs have teams assigned to them based on the info from the Team List tab.
C11: • Hide rows on the Judge Pairing tab for any unused pairings. Avoid deleting the rows as it may cause errors
B13: 3. Confirm the Separate Judge Team Short List tab is set up for your pairings
C14: • review the tab and hide any rows for judge pairings you are not planning to use. Avoid deleting the rows as it may cause errors
B17: Day 1 – Initial Nominations
B18: 1. Send judges to do first round interviews. Remind them to take good notes as they may not be reinterviewing in the second round
C19: • Team Attributes judges interview for Team Attributes only all day.
C20: • Machine Attributes judges interview for Machine Attributes only all day.
B22: 2. Select award nominees.
C23: • Each judge pair selects its #1 team for each award they evaluate:
C24: – Machine Attributes (MA): 8 awards.
C25: – Team Attributes (TA): 8 awards.
C26: – If you feel you have a STRONG second team selection for an award, add in the box below the Primary teams
C27: • Enter selections by close of business on Day 1.
C28: – Note that some District events may do this earlier on Day 1 to allow starting second round interviews. This can only be done if all teams have received their first 2 interviews.
B30: 3. Identify duplicate teams.
C31: • The Judge Advisor (JA) circles any team nominated for more than one award within the MA or TA groups.
C32: • This helps judges identify teams that may need to be interviewed for multiple awards on Day 2.
B34: Day 2 – Follow-Up Interviews and Award Selection
B35: Note: Some District events may start this in the afternoon on Day 1 to start doing second round interviews. This can only be done if all teams have received their first 2 interviews.
B36: 1. Assign teams to interview groups.
C37: • The JA should review nominated teams and find duplicated teams and then assign teams to groups. It is suggested to do a maximum of 8 teams per judge group. If you have more teams that need to be re-interviewed you may add more judge pairs but the fewer judge pairs that go out, the easier deconfliction will be.
C38: • The JA assigns duplicate-nominated teams to Groups A or B for Team Attributes.
C39: • The JA assigns duplicate-nominated teams to Groups C or D for Machine Attributes.
C40: • Mark the appropriate group (A, B, C, or D) in the designated columns.
C41: • Be aware from a timing perspective to not to put too many teams in each group as judges will have to reinterview each team. The deadline for everything to be entered into AES varies but is typically 45 minutes after playoffs begin. Please check with your Event Manager on site to finalize the exact time.
B43: 2. Form judging groups.
C44: • The JA should form new groups using original set of judges. Each judge group can be a maximum of 3 people which means some judges will not be able to reinterview.
C45: • The JA should form groups for A, B, C, and D to have them reinterview the teams grouped in step 1.
C46: • Each group interviews the teams assigned to them. Remind them to get notes from original judges.
C47: • Any spare judges not assigned to a group should do ambassador interviews in maximum groups of 3. (see Ambassador Interviews tab)
B49: 3. Conduct follow-up interviews.
C50: • The JA sends judges to interview the shortlisted teams on Day 2 (or late afternoon on Day 1, if needed).
B52: 4. Review and narrow nominations.
C53: • Each group reviews its assigned teams and narrows the nominations.
C54: • Judges should consider the Day 1 evaluations and nominations when making their decisions.
B56: 5. Finalize award selections.
C57: • The JA facilitates the remaining award discussions and final decisions.
C58: • Enter final selections in the “Final Selection” rows:
C59: – Row 48 for Team Attributes.
C60: – Row 94 for Machine Attributes.
B62: 6. Reference materials and help.
C63: • Refer to the “Separate Judge Teams – Sample” tab for a completed example and the Judge Advisor training.
C64: • Contact Allen or Cindy if you need clarification.
B66: 7. Have fun!

Sheet Team List
A1: Judge Pairings - Separate Judge Teams - Interview MA or TA (not both)
A3: Paste the team list for teams attending the event from the FIRST website & then fill in the judge pairs with # of pairs you have. Teams will be grouped randomly and team assignments will then populate on the judge pairings tab. | G3: # of Judge Pairs | H3: 4 | J3: <-- This method supports a maximum of 5 groups. Only enter 1-5 here. Groups will be reused for both TA & MA
B5: Team # | C5: Team Name | D5: City, State, Country | E5: Assigned Group | I5: this section auto populates - do not enter data below
A6: 1 | B6: 858 | C6: Demons Robotics | D6: Wyoming, Michigan, USA | E6: =_xlfn.LET(_xlpm.n,$H$3,_xlpm.p,MOD(ROW()-ROW($B$6),2*_xlpm.n),IF(_xlpm.p<_xlpm.n,_xlpm.p+1,2*_xlpm.n-_xlpm.p)) -> 1 | I6: Group 1 | J6: {=_xlfn.TEXTJOIN(", ",TRUE,_xlfn._xlws.FILTER($B$6:$B$102,$E$6:$E$102=1,""))} -> 858, 3875, 4325, 7220, 7221, 7818, 8285, 9638, 9671, 11399
A7: 2 | B7: 904 | C7: D Cubed | D7: Grand Rapids, Michigan, USA | E7: =_xlfn.LET(_xlpm.n,$H$3,_xlpm.p,MOD(ROW()-ROW($B$6),2*_xlpm.n),IF(_xlpm.p<_xlpm.n,_xlpm.p+1,2*_xlpm.n-_xlpm.p)) -> 2 | I7: Group 2 | J7: {=_xlfn.TEXTJOIN(", ",TRUE,_xlfn._xlws.FILTER($B$6:$B$102,$E$6:$E$102=2,""))} -> 904, 3620, 4967, 6081, 7256, 7809, 8423, 9566, 9685, 10664
A8: 3 | B8: 1023 | C8: Bedford Express | D8: Temperance, Michigan, USA | E8: =_xlfn.LET(_xlpm.n,$H$3,_xlpm.p,MOD(ROW()-ROW($B$6),2*_xlpm.n),IF(_xlpm.p<_xlpm.n,_xlpm.p+1,2*_xlpm.n-_xlpm.p)) -> 3 | I8: Group 3 | J8: {=_xlfn.TEXTJOIN(", ",TRUE,_xlfn._xlws.FILTER($B$6:$B$102,$E$6:$E$102=3,""))} -> 1023, 3234, 5166, 5980, 7289, 7808, 8767, 9549, 9756, 10642
A9: 4 | B9: 2075 | C9: Enigma Robotics | D9: Grand Rapids, Michigan, USA | E9: =_xlfn.LET(_xlpm.n,$H$3,_xlpm.p,MOD(ROW()-ROW($B$6),2*_xlpm.n),IF(_xlpm.p<_xlpm.n,_xlpm.p+1,2*_xlpm.n-_xlpm.p)) -> 4 | I9: Group 4 | J9: {=_xlfn.TEXTJOIN(", ",TRUE,_xlfn._xlws.FILTER($B$6:$B$102,$E$6:$E$102=4,""))} -> 2075, 2771, 5256, 5501, 7656, 7658, 9206, 9208, 10181, 10633
A10: 5 | B10: 2771 | C10: Code Red Robotics the Stray Dogs | D10: Grandville, Michigan, USA | E10: =_xlfn.LET(_xlpm.n,$H$3,_xlpm.p,MOD(ROW()-ROW($B$6),2*_xlpm.n),IF(_xlpm.p<_xlpm.n,_xlpm.p+1,2*_xlpm.n-_xlpm.p)) -> 4 | H10: {=IFERROR(_xlfn._xlws.FILTER($A$6:$B$102,$B$6:$G$102=H$9),"")} | I10: Group 5 | J10: {=_xlfn.TEXTJOIN(", ",TRUE,_xlfn._xlws.FILTER($B$6:$B$102,$E$6:$E$102=5,""))}
A11: 6 | B11: 3234 | C11: Red Arrows | D11: Lowell, Michigan, USA | E11: =_xlfn.LET(_xlpm.n,$H$3,_xlpm.p,MOD(ROW()-ROW($B$6),2*_xlpm.n),IF(_xlpm.p<_xlpm.n,_xlpm.p+1,2*_xlpm.n-_xlpm.p)) -> 3 | H11: {=IFERROR(_xlfn._xlws.FILTER($A$6:$B$102,$B$6:$G$102=H$9),"")}
A12: 7 | B12: 3620 | C12: Average Joes | D12: Saint Joseph, Michigan, USA | E12: =_xlfn.LET(_xlpm.n,$H$3,_xlpm.p,MOD(ROW()-ROW($B$6),2*_xlpm.n),IF(_xlpm.p<_xlpm.n,_xlpm.p+1,2*_xlpm.n-_xlpm.p)) -> 2 | H12: {=IFERROR(_xlfn._xlws.FILTER($A$6:$B$102,$B$6:$G$102=H$9),"")}
A13: 8 | B13: 3875 | C13: Red Storm Robotics | D13: Kentwood, Michigan, USA | E13: =_xlfn.LET(_xlpm.n,$H$3,_xlpm.p,MOD(ROW()-ROW($B$6),2*_xlpm.n),IF(_xlpm.p<_xlpm.n,_xlpm.p+1,2*_xlpm.n-_xlpm.p)) -> 1 | H13: {=IFERROR(_xlfn._xlws.FILTER($A$6:$B$102,$B$6:$G$102=H$9),"")}
A14: 9 | B14: 4325 | C14: RoboRangers | D14: Cassopolis, Michigan, USA | E14: =_xlfn.LET(_xlpm.n,$H$3,_xlpm.p,MOD(ROW()-ROW($B$6),2*_xlpm.n),IF(_xlpm.p<_xlpm.n,_xlpm.p+1,2*_xlpm.n-_xlpm.p)) -> 1 | H14: {=IFERROR(_xlfn._xlws.FILTER($A$6:$B$102,$B$6:$G$102=H$9),"")}
A15: 10 | B15: 4967 | C15: That ONE Team-OurNextEngineers | D15: Belmont, Michigan, USA | E15: =_xlfn.LET(_xlpm.n,$H$3,_xlpm.p,MOD(ROW()-ROW($B$6),2*_xlpm.n),IF(_xlpm.p<_xlpm.n,_xlpm.p+1,2*_xlpm.n-_xlpm.p)) -> 2 | H15: {=IFERROR(_xlfn._xlws.FILTER($A$6:$B$102,$B$6:$G$102=H$9),"")}
A16: 11 | B16: 5166 | C16: Fabricators | D16: Freeland, Michigan, USA | E16: =_xlfn.LET(_xlpm.n,$H$3,_xlpm.p,MOD(ROW()-ROW($B$6),2*_xlpm.n),IF(_xlpm.p<_xlpm.n,_xlpm.p+1,2*_xlpm.n-_xlpm.p)) -> 3 | H16: {=IFERROR(_xlfn._xlws.FILTER($A$6:$B$102,$B$6:$G$102=H$9),"")}
A17: 12 | B17: 5256 | C17: Atomics | D17: Lake Odessa, Michigan, USA | E17: =_xlfn.LET(_xlpm.n,$H$3,_xlpm.p,MOD(ROW()-ROW($B$6),2*_xlpm.n),IF(_xlpm.p<_xlpm.n,_xlpm.p+1,2*_xlpm.n-_xlpm.p)) -> 4 | H17: {=IFERROR(_xlfn._xlws.FILTER($A$6:$B$102,$B$6:$G$102=H$9),"")}
A18: 13 | B18: 5501 | C18: Bobcats | D18: Burr Oak, Michigan, USA | E18: =_xlfn.LET(_xlpm.n,$H$3,_xlpm.p,MOD(ROW()-ROW($B$6),2*_xlpm.n),IF(_xlpm.p<_xlpm.n,_xlpm.p+1,2*_xlpm.n-_xlpm.p)) -> 4 | H18: {=IFERROR(_xlfn._xlws.FILTER($A$6:$B$102,$B$6:$G$102=H$9),"")}
A19: 14 | B19: 5980 | C19: East Grand Rapids Robotics | D19: Grand Rapids, Michigan, USA | E19: =_xlfn.LET(_xlpm.n,$H$3,_xlpm.p,MOD(ROW()-ROW($B$6),2*_xlpm.n),IF(_xlpm.p<_xlpm.n,_xlpm.p+1,2*_xlpm.n-_xlpm.p)) -> 3 | H19: {=IFERROR(_xlfn._xlws.FILTER($A$6:$B$102,$B$6:$G$102=H$9),"")}
A20: 15 | B20: 6081 | C20: Digital Dislocators | D20: Manchester, Michigan, USA | E20: =_xlfn.LET(_xlpm.n,$H$3,_xlpm.p,MOD(ROW()-ROW($B$6),2*_xlpm.n),IF(_xlpm.p<_xlpm.n,_xlpm.p+1,2*_xlpm.n-_xlpm.p)) -> 2 | H20: {=IFERROR(_xlfn._xlws.FILTER($A$6:$B$102,$B$6:$G$102=H$9),"")}
A21: 16 | B21: 7220 | C21: Steel Falcons | D21: Brighton, Michigan, USA | E21: =_xlfn.LET(_xlpm.n,$H$3,_xlpm.p,MOD(ROW()-ROW($B$6),2*_xlpm.n),IF(_xlpm.p<_xlpm.n,_xlpm.p+1,2*_xlpm.n-_xlpm.p)) -> 1 | H21: {=IFERROR(_xlfn._xlws.FILTER($A$6:$B$102,$B$6:$G$102=H$9),"")}
A22: 17 | B22: 7221 | C22: Viking Robotics | D22: Jackson, Michigan, USA | E22: =_xlfn.LET(_xlpm.n,$H$3,_xlpm.p,MOD(ROW()-ROW($B$6),2*_xlpm.n),IF(_xlpm.p<_xlpm.n,_xlpm.p+1,2*_xlpm.n-_xlpm.p)) -> 1 | H22: {=IFERROR(_xlfn._xlws.FILTER($A$6:$B$102,$B$6:$G$102=H$9),"")}
... A26: 21 | B26: 7658 | C26: MagiTech | D26: Kalamazoo, Michigan, USA | E26: =_xlfn.LET(_xlpm.n,$H$3,_xlpm.p,MOD(ROW()-ROW($B$6),2*_xlpm.n),IF(_xlpm.p<_xlpm.n,_xlpm.p+1,2*_xlpm.n-_xlpm.p)) -> 4 | H26: {=IFERROR(_xlfn._xlws.FILTER($A$6:$B$102,$B$6:$G$102=H$9),"")}
A27: 22 | B27: 7808 | C27: Kalkaska Dragoneers | D27: Kalkaska, Michigan, USA | E27: =_xlfn.LET(_xlpm.n,$H$3,_xlpm.p,MOD(ROW()-ROW($B$6),2*_xlpm.n),IF(_xlpm.p<_xlpm.n,_xlpm.p+1,2*_xlpm.n-_xlpm.p)) -> 3
A28: 23 | B28: 7809 | C28: FROST BYTE Robotics | D28: Bangor, Michigan, USA | E28: =_xlfn.LET(_xlpm.n,$H$3,_xlpm.p,MOD(ROW()-ROW($B$6),2*_xlpm.n),IF(_xlpm.p<_xlpm.n,_xlpm.p+1,2*_xlpm.n-_xlpm.p)) -> 2
A29: 24 | B29: 7818 | C29: Williamston High School Vespidae | D29: Williamston, Michigan, USA | E29: =_xlfn.LET(_xlpm.n,$H$3,_xlpm.p,MOD(ROW()-ROW($B$6),2*_xlpm.n),IF(_xlpm.p<_xlpm.n,_xlpm.p+1,2*_xlpm.n-_xlpm.p)) -> 1
A30: 25 | B30: 8285 | C30: Bionic Bulldogs | D30: Ravenna, Michigan, USA | E30: =_xlfn.LET(_xlpm.n,$H$3,_xlpm.p,MOD(ROW()-ROW($B$6),2*_xlpm.n),IF(_xlpm.p<_xlpm.n,_xlpm.p+1,2*_xlpm.n-_xlpm.p)) -> 1
A31: 26 | B31: 8423 | C31: Next Express | D31: Temperance, Michigan, USA | E31: =_xlfn.LET(_xlpm.n,$H$3,_xlpm.p,MOD(ROW()-ROW($B$6),2*_xlpm.n),IF(_xlpm.p<_xlpm.n,_xlpm.p+1,2*_xlpm.n-_xlpm.p)) -> 2
A32: 27 | B32: 8767 | C32: Dark Horse Robotics | D32: North Branch, Michigan, USA | E32: =_xlfn.LET(_xlpm.n,$H$3,_xlpm.p,MOD(ROW()-ROW($B$6),2*_xlpm.n),IF(_xlpm.p<_xlpm.n,_xlpm.p+1,2*_xlpm.n-_xlpm.p)) -> 3
A33: 28 | B33: 9206 | C33: GRP Titans | D33: Grand Rapids, Michigan, USA | E33: =_xlfn.LET(_xlpm.n,$H$3,_xlpm.p,MOD(ROW()-ROW($B$6),2*_xlpm.n),IF(_xlpm.p<_xlpm.n,_xlpm.p+1,2*_xlpm.n-_xlpm.p)) -> 4
A34: 29 | B34: 9208 | C34: Eddies Circuit | D34: Edwardsburg, Michigan, USA | E34: =_xlfn.LET(_xlpm.n,$H$3,_xlpm.p,MOD(ROW()-ROW($B$6),2*_xlpm.n),IF(_xlpm.p<_xlpm.n,_xlpm.p+1,2*_xlpm.n-_xlpm.p)) -> 4
A35: 30 | B35: 9549 | C35: The Mechadogs | D35: Covert, Michigan, USA | E35: =_xlfn.LET(_xlpm.n,$H$3,_xlpm.p,MOD(ROW()-ROW($B$6),2*_xlpm.n),IF(_xlpm.p<_xlpm.n,_xlpm.p+1,2*_xlpm.n-_xlpm.p)) -> 3
A36: 31 | B36: 9566 | C36: Red Storm Rookies | D36: Kentwood, Michigan, USA | E36: =_xlfn.LET(_xlpm.n,$H$3,_xlpm.p,MOD(ROW()-ROW($B$6),2*_xlpm.n),IF(_xlpm.p<_xlpm.n,_xlpm.p+1,2*_xlpm.n-_xlpm.p)) -> 2
A37: 32 | B37: 9638 | C37: Tigers, Bro! | D37: Gobles, Michigan, USA | E37: =_xlfn.LET(_xlpm.n,$H$3,_xlpm.p,MOD(ROW()-ROW($B$6),2*_xlpm.n),IF(_xlpm.p<_xlpm.n,_xlpm.p+1,2*_xlpm.n-_xlpm.p)) -> 1
A38: 33 | B38: 9671 | C38: Robosnacks | D38: Grand Rapids, Michigan, USA | E38: =_xlfn.LET(_xlpm.n,$H$3,_xlpm.p,MOD(ROW()-ROW($B$6),2*_xlpm.n),IF(_xlpm.p<_xlpm.n,_xlpm.p+1,2*_xlpm.n-_xlpm.p)) -> 1
... A45: 40 | B45: 11399 | C45: Timber Tech | D45: Eau Claire, Michigan, USA | E45: =_xlfn.LET(_xlpm.n,$H$3,_xlpm.p,MOD(ROW()-ROW($B$6),2*_xlpm.n),IF(_xlpm.p<_xlpm.n,_xlpm.p+1,2*_xlpm.n-_xlpm.p)) -> 1
A46: 41 | E46: =_xlfn.LET(_xlpm.n,$H$3,_xlpm.p,MOD(ROW()-ROW($B$6),2*_xlpm.n),IF(_xlpm.p<_xlpm.n,_xlpm.p+1,2*_xlpm.n-_xlpm.p)) -> 1
A47: 42 | E47: =_xlfn.LET(_xlpm.n,$H$3,_xlpm.p,MOD(ROW()-ROW($B$6),2*_xlpm.n),IF(_xlpm.p<_xlpm.n,_xlpm.p+1,2*_xlpm.n-_xlpm.p)) -> 2
A48: 43 | E48: =_xlfn.LET(_xlpm.n,$H$3,_xlpm.p,MOD(ROW()-ROW($B$6),2*_xlpm.n),IF(_xlpm.p<_xlpm.n,_xlpm.p+1,2*_xlpm.n-_xlpm.p)) -> 3
A49: 44 | E49: =_xlfn.LET(_xlpm.n,$H$3,_xlpm.p,MOD(ROW()-ROW($B$6),2*_xlpm.n),IF(_xlpm.p<_xlpm.n,_xlpm.p+1,2*_xlpm.n-_xlpm.p)) -> 4
A50: 45 | E50: =_xlfn.LET(_xlpm.n,$H$3,_xlpm.p,MOD(ROW()-ROW($B$6),2*_xlpm.n),IF(_xlpm.p<_xlpm.n,_xlpm.p+1,2*_xlpm.n-_xlpm.p)) -> 4
A51: 46 | E51: =_xlfn.LET(_xlpm.n,$H$3,_xlpm.p,MOD(ROW()-ROW($B$6),2*_xlpm.n),IF(_xlpm.p<_xlpm.n,_xlpm.p+1,2*_xlpm.n-_xlpm.p)) -> 3
A52: 47 | E52: =_xlfn.LET(_xlpm.n,$H$3,_xlpm.p,MOD(ROW()-ROW($B$6),2*_xlpm.n),IF(_xlpm.p<_xlpm.n,_xlpm.p+1,2*_xlpm.n-_xlpm.p)) -> 2
A53: 48 | E53: =_xlfn.LET(_xlpm.n,$H$3,_xlpm.p,MOD(ROW()-ROW($B$6),2*_xlpm.n),IF(_xlpm.p<_xlpm.n,_xlpm.p+1,2*_xlpm.n-_xlpm.p)) -> 1
A54: 49 | E54: =_xlfn.LET(_xlpm.n,$H$3,_xlpm.p,MOD(ROW()-ROW($B$6),2*_xlpm.n),IF(_xlpm.p<_xlpm.n,_xlpm.p+1,2*_xlpm.n-_xlpm.p)) -> 1
A55: 50 | E55: =_xlfn.LET(_xlpm.n,$H$3,_xlpm.p,MOD(ROW()-ROW($B$6),2*_xlpm.n),IF(_xlpm.p<_xlpm.n,_xlpm.p+1,2*_xlpm.n-_xlpm.p)) -> 2
A56: 51 | E56: =_xlfn.LET(_xlpm.n,$H$3,_xlpm.p,MOD(ROW()-ROW($B$6),2*_xlpm.n),IF(_xlpm.p<_xlpm.n,_xlpm.p+1,2*_xlpm.n-_xlpm.p)) -> 3
A57: 52 | E57: =_xlfn.LET(_xlpm.n,$H$3,_xlpm.p,MOD(ROW()-ROW($B$6),2*_xlpm.n),IF(_xlpm.p<_xlpm.n,_xlpm.p+1,2*_xlpm.n-_xlpm.p)) -> 4
... A81: 76 | E81: =_xlfn.LET(_xlpm.n,$H$3,_xlpm.p,MOD(ROW()-ROW($B$6),2*_xlpm.n),IF(_xlpm.p<_xlpm.n,_xlpm.p+1,2*_xlpm.n-_xlpm.p)) -> 4

Sheet Judge Pairings - Separate Judge
A2: Judge Pairings - Separate Judge Teams - Interview MA or TA (not both)
A4: Team Attribute Interviews | H4: Machine Attribute Interviews
A6: Engineering Inspiration Award | H6: Autonomous Award
A7: Gracious Professionalism® Award | H7: Creativity Award
A8: Imagery Award, in honor of Jack Kamen | H8: Excellence in Engineering Award
A9: Judges Award | H9: Industrial Design Award
A10: Rising All Star Award | H10: Innovation in Control Award
A11: Rookie All Star Award | H11: Quality Award
A12: Team Spirit Award | H12: Rookie All Star Award
A13: Team Sustainability Award | H13: Judges Award
A16: Fill in First Name will auto populate where needed. Pair judges below for both Team Attributes and Machine Attributes. Remember to pair Veterans and Rookies when possible - use the Exp column to designate if a Rookie (R) or a Veteran (V).
A18: Team Attribute Pairs | H18: Any team with a team number of 11,700 or higher is eligible for the Rookie All Star Award for the 2027 season.
A19: First Name | B19: Last Name | C19: Exp. | D19: Team Assignments
A20: Allen | B20: Bancroft | C20: V | D20: ='Team List'!J6 -> 858, 3875, 4325, 7220, 7221, 7818, 8285, 9638, 9671, 11399
A21: Sally | B21: Test | C21: V
A22: Meganne | B22: Tuplin-Dorgan | C22: R
A24: - | C24: V | D24: ='Team List'!J7 -> 904, 3620, 4967, 6081, 7256, 7809, 8423, 9566, 9685, 10664
A25: - | C25: R
A26: - | C26: R
A28: - | C28: V | D28: ='Team List'!J8 -> 1023, 3234, 5166, 5980, 7289, 7808, 8767, 9549, 9756, 10642
A29: - | C29: V
A30: - | C30: R
A32: - | C32: V | D32: ='Team List'!J9 -> 2075, 2771, 5256, 5501, 7656, 7658, 9206, 9208, 10181, 10633
A33: - | C33: R
A34: - | C34: R
A36: - | C36: V | D36: ='Team List'!J10
A37: - | C37: R
A38: - | C38: R
A41: Machine Attribute Pairs
A42: Cindy | B42: Stong | C42: V | D42: ='Team List'!J6 -> 858, 3875, 4325, 7220, 7221, 7818, 8285, 9638, 9671, 11399
A43: Test | B43: Tester | C43: R
A44: Fiona | B44: Hanlon | C44: R
A46: - | C46: V | D46: ='Team List'!J7 -> 904, 3620, 4967, 6081, 7256, 7809, 8423, 9566, 9685, 10664
A47: - | C47: V
A48: - | C48: R
A50: - | C50: V | D50: ='Team List'!J8 -> 1023, 3234, 5166, 5980, 7289, 7808, 8767, 9549, 9756, 10642
A51: - | C51: V
A52: - | C52: R
A54: - | C54: V | D54: ='Team List'!J9 -> 2075, 2771, 5256, 5501, 7656, 7658, 9206, 9208, 10181, 10633
A55: - | C55: R
A56: - | C56: R
A58: - | C58: V | D58: ='Team List'!J10
A59: - | C59: R
A60: - | C60: R
A63: FIRST Impact Award
A64: First Name | B64: Last Name | C64: Team Assignments
C65: Use the Submitted Award Scheduler found on the JA Resources webpage to manage FIA
A69: FIRST Leadership Award
A70: First Name | B70: Last Name | C70: First Name & Team #
C71: Use the Submitted Award Scheduler found on the JA Resources webpage to manage FLA
A75: Match Observer
A76: First Name | B76: Last Name
A80: Note: If strapped for Judges, you can drop to 1x Match Observer or none but talk with your VC to see if a Robot Inspector or another volunteer can fill in
A83: Full Award List
A84: Woodie Flowers Finalist Award - Not given by the Judges
A85: Volunteer of the Year Award (optional) - Not given by the Judges
A86: FIRST Impact Award
A87: FIRST Leadership Award
A88: Engineering Inspiration Award
A89: Rookie All Star Award
A90: Imagery Award, in honor of Jack Kamen
A91: Gracious Professionalism® Award
A92: Team Spirit Award
A93: Rising All Star Award
... A103: Winner - Not give by the Judges

Sheet Separate Judge Teams Short List
A1: Judge Pairings - Separate Judge Teams - Interview MA or TA (not both)
F3: X | G3: X | H3: X | I3: C or D | J3: C or D | K3: C or D | L3: C or D | M3: C or D | N3: C or D | O3: C or D | P3: X | Q3: X | R3: C or D | S3: X
F4: TA | G4: TA | H4: TA | I4: TA/MA | J4: MA | K4: MA | L4: MA | M4: MA | N4: MA | O4: MA | P4: TA | Q4: TA/MA | R4: TA/MA | S4: TA
B5: Day 1 Judges | D5: Day 2 Groups | E5: Day 2 Judges | F5: Imagery Award, in honor of Jack Kamen | G5: Gracious Professionalism® Award | H5: Team Spirit Award | I5: Rising All-Star Award | J5: Autonomous Award | K5: Creativity Award | L5: Quality Award | M5: Industrial Design Award | N5: Innovation in Control Award | O5: Excellence in Engineering Award | P5: Team Sustainability Award | Q5: Judges Award | R5: Rookie All-Star Award | S5: Engineering Inspiration Award
A7: Team Attributes (8) | F7: A or B | G7: A or B | H7: A or B | I7: A or B | J7: X | K7: X | L7: X | M7: X | N7: X | O7: X | P7: A or B | Q7: A or B | R7: A or B | S7: A or B
B8: ='Judge Pairings - Separate Judge'!A20 -> Allen | J8: X | K8: X | L8: X | M8: X | N8: X | O8: X
B9: ='Judge Pairings - Separate Judge'!A21 -> Sally
B10: ='Judge Pairings - Separate Judge'!A22 -> Meganne
E11: If a STRONG #2
B15: ='Judge Pairings - Separate Judge'!A24 -> - | J15: X | K15: X | L15: X | M15: X | N15: X | O15: X
B16: ='Judge Pairings - Separate Judge'!A25 -> -
B17: ='Judge Pairings - Separate Judge'!A26 -> -
E18: If a STRONG #2
B22: ='Judge Pairings - Separate Judge'!A28 -> - | J22: X | K22: X | L22: X | M22: X | N22: X | O22: X
B23: ='Judge Pairings - Separate Judge'!A29 -> -
B24: ='Judge Pairings - Separate Judge'!A30 -> -
E25: If a STRONG #2
B29: ='Judge Pairings - Separate Judge'!A32 -> - | J29: X | K29: X | L29: X | M29: X | N29: X | O29: X
B30: ='Judge Pairings - Separate Judge'!A33 -> -
B31: ='Judge Pairings - Separate Judge'!A34 -> -
E32: If a STRONG #2
B36: ='Judge Pairings - Separate Judge'!A36 -> - | J36: X | K36: X | L36: X | M36: X | N36: X | O36: X
B37: ='Judge Pairings - Separate Judge'!A37 -> -
B38: ='Judge Pairings - Separate Judge'!A38 -> -
E39: If a STRONG #2
E43: # Interviews | J43: X | K43: X | L43: X | M43: X | N43: X | O43: X
E44: # Interviews
D48: Final TA Selection
A53: Machine Attributes (8) | B53: ='Judge Pairings - Separate Judge'!A42 -> Cindy | F53: X | G53: X | H53: X | P53: X | S53: X
B54: ='Judge Pairings - Separate Judge'!A43 -> Test
B55: ='Judge Pairings - Separate Judge'!A44 -> Fiona
E56: If a STRONG #2
B60: ='Judge Pairings - Separate Judge'!A46 -> - | F60: X | G60: X | H60: X | P60: X | S60: X
B61: ='Judge Pairings - Separate Judge'!A47 -> -
B62: ='Judge Pairings - Separate Judge'!A48 -> -
E63: If a STRONG #2
B67: ='Judge Pairings - Separate Judge'!A50 -> - | F67: X | G67: X | H67: X | P67: X | S67: X
B68: ='Judge Pairings - Separate Judge'!A51 -> -
B69: ='Judge Pairings - Separate Judge'!A52 -> -
E70: If a STRONG #2
B74: ='Judge Pairings - Separate Judge'!A54 -> - | F74: X | G74: X | H74: X | P74: X | S74: X
B75: ='Judge Pairings - Separate Judge'!A55 -> -
B76: ='Judge Pairings - Separate Judge'!A56 -> -
E77: If a STRONG #2
B81: ='Judge Pairings - Separate Judge'!A58 -> - | F81: X | G81: X | H81: X | P81: X | S81: X
B82: ='Judge Pairings - Separate Judge'!A59 -> -
B83: ='Judge Pairings - Separate Judge'!A60 -> -
E84: If a STRONG #2
E88: # Interviews | F88: X | G88: X | H88: X | P88: X | S88: X
E89: # Interviews
D94: Final MA Selection

Sheet Ambassador Interviews
B2: This sheet will auto generate a list of teams who are not getting a second round interview to help make it easier to know which teams can get an ambassador interview. It pulls information from the "Team List Tab" and compares it to the "Separate Judge Teams Short List tab"
B4: Teams who need an Ambassador interview
B5: {=_xlfn._xlws.FILTER('Team List'!B6:B81,('Team List'!B6:B81<>"")*(COUNTIF('Separate Judge Teams Short List'!F6:S85,'Team List'!B6:B81)=0),"All Teams Re-Interviewed")} -> 858
B6: 904
B7: 1023
B8: 2075
B9: 2771
B10: 3234
B11: 3620
B12: 3875
B13: 4325
B14: 4967
B15: 5166
B16: 5256
B17: 5501
... B44: 11399

Sheet Separate Judge Teams - Sample
J2: A | K2: B | L2: A | M2: A | N2: B | O2: B | Q2: A
F3: TA | G3: TA | H3: TA | I3: TA | J3: MA | K3: MA | L3: MA | M3: MA | N3: MA | O3: MA | P3: TA | Q3: TA | R3: TA/MA | S3: TA
B4: Day 1 Judges | D4: Day 2 Groups | E4: Day 2 Judges | F4: Imagery Award, in honor of Jack Kamen | G4: Gracious Professionalism® Award | H4: Team Spirit Award | I4: Rising All-Star | J4: Autonomous Award | K4: Creativity Award sponsored | L4: Quality Award | M4: Industrial Design Award | N4: Innovation in Control Award | O4: Excellence in Engineering Award | P4: Team Sustainability Award | Q4: Judges Award | R4: Rookie All Star Award | S4: Engineering Inspiration Award | T4: FIA
A5: Machine Attributes | B5: (A) - Tabitha | D5: A | F5: X | G5: X | H5: X | I5: 4 | J5: 123 | K5: 4 | L5: 123 | M5: 456 | N5: 5624 | O5: 16 | P5: X | R5: 9500 | S5: X | T5: 3792
B6: (B) - Bill | D6: B
E7: If a STRONG #2 | J7: 622 | L7: 918 | M7: 87 | O7: 4
B11: (A) - Samantha | D11: A | F11: X | G11: X | H11: X | I11: 238 | J11: 789 | K11: 781 | L11: 238 | M11: 321 | N11: 9067 | O11: 3616 | P11: X | Q11: 789 | R11: X | S11: X | T11: 456
B12: (B) - Bob | D12: B
E13: If a STRONG #2 | K13: 89 | M13: 7001 | N13: 8542
B17: (A) - Liz | D17: A | F17: X | G17: X | H17: X | I17: 3789 | J17: 4301 | K17: 8502 | L17: 3789 | M17: 4301 | N17: 2568 | O17: 4589 | P17: X | Q17: 4301 | R17: X | S17: X | T17: 4301
B18: (B) - John | D18: B
E19: If a STRONG #2 | J19: 9873 | K19: 58 | M19: 994
A24: Final MA Selection
F29: C | G29: C | H29: D | I29: D | P29: C | Q29: D | S29: C
A30: Team Attributes | B30: (D) - Sam | D30: C | F30: 8543 | G30: 123 | H30: 4 | I30: X | J30: X | K30: X | L30: X | M30: X | N30: X | O30: X | P30: 5454 | Q30: 1622 | R30: X | S30: 456 | T30: X
B31: (E) - Jay | D31: D
E32: If a STRONG #2 | F32: 44 | H32: 156 | P32: 852
B36: (D) - Kate | D36: C | F36: 238 | G36: 1781 | H36: 9068 | I36: 9345 | J36: X | K36: X | L36: X | M36: X | N36: X | O36: X | P36: 238 | Q36: 3616 | R36: 9645 | S36: 1781 | T36: X
B37: (E) - Derek | D37: D
E38: If a STRONG #2 | F38: 42 | H38: 756 | P38: 456
B42: (D) - Collin | D42: C | F42: 4336 | G42: 9073 | H42: 1038 | I42: 891 | J42: X | K42: X | L42: X | M42: X | N42: X | O42: X | P42: 854 | Q42: 6186 | R42: X | S42: 854 | T42: X
B43: (E) - Emma | D43: D
E44: If a STRONG #2 | H44: 854 | Q44: 3697
D48: Final TA Selection
