Workbook

Sheet Directions
A1: Shared Judge Teams - Interview Both MA + TA
B3: Setting Up the Sheet - Pre-Event
B4: 1. Fill in the Team List tab
C5: • Paste the team list onto the tab
C6: • Fill in the # of judge pairings you would like to have the team list divided into. This then divides teams into groups and populates groupings on the Judge Pairings tab
B8: 2. Fill in the Judge Pairings tab
C9: • Assign judges to pairs and list them on the tab. Be sure to place names in the correct cells & remember to try to pair rookie judges with veterans when possible. Use the experience column to track those who are Rookies (R) or Veterans. Try to also include someone with technical experience in each group if possible.
C10: • You will notice that the judge pairs have teams assigned to them based on the info from the Team List tab.
C11: • Hide rows on the Judge Pairing tab for any unused pairings. Avoid deleting the rows as it may cause errors
B13: 3. Confirm the Separate Judge Team Short List tab is set up for your pairings
C14: • review the tab and hide any rows for judge pairings you are not planning to use. Avoid deleting the rows as it may cause errors
B17: Day 1 – Initial Nominations
B19: 1. Send judges to do first round interviews. Remind them to take good notes as they may not be reinterviewing in the second round
C20: • Interview Team Attributes in the morning and Machine Attributes in the afternoon.
C21: • The same judge pair interviews teams for both Machine and Team Attribute awards.
B23: 2. Select award nominees.
C24: • Each judge pair selects its #1 team for each award:
C25: – Machine Attributes (MA): 8 awards.
C26: – Team Attributes (TA): 7 awards.
C27: – If you feel you have a STRONG second team selection for an award, add in the box below the Primary teams
C28: Note: The more judge groups you have the less likely that each group will have a nomination for each award. That is okay but be sure there is at least 2 teams nominated for every award to help with deconfliction
C29: • Enter selections by close of business on Day 1.
C30: – Note that some District events may do this earlier on Day 1 to allow starting second round interviews. This can only be done if all teams have received their first 2 interviews.
B32: 3. Identify duplicate teams.
C33: • The Judge Advisor (JA) circles any team nominated for more than one award within the MA or TA groups.
C34: • This helps judges identify teams that may need to be interviewed for multiple awards on Day 2.
B36: Day 2 – Follow-Up Interviews and Award Selection
B37: Note: Some District events may start this in the afternoon on Day 1 to start doing second round interviews. This can only be done if all teams have received their first 2 interviews.
B38: 1. Assign teams to interview groups.
C39: • The JA should review nominated teams and find duplicated teams and then assign teams to groups. It is suggested to do a maximum of 8 teams per judge group. If you have more teams that need to be re-interviewed you may add more judge pairs but the fewer judge pairs that go out, the easier deconfliction will be.
C40: • The JA assigns duplicate-nominated teams to Groups A or B for Team Attributes.
C41: • The JA assigns duplicate-nominated teams to Groups C or D for Machine Attributes.
C42: • Mark the appropriate group (A, B, C, or D) in the designated columns.
C43: • Be aware from a timing perspective to not to put too many teams in each group as judges will have to reinterview each team. The deadline for everything to be entered into AES varies but is typically 45 minutes after playoffs begin. Please check with your Event Manager on site to finalize the exact time.
B45: 2. Form judging groups.
C46: • The JA should form new groups using original set of judges. Each judge group can be a maximum of 3 people which means some judges will not be able to reinterview.
C47: • The JA should form groups for A, B, C, and D to have them reinterview the teams grouped in step 1.
C48: • Each group interviews the teams assigned to them. Remind them to get notes from original judges.
C49: • Any spare judges not assigned to a group should do ambassador interviews in maximum groups of 3. (see Ambassador Interviews tab)
B51: 3. Conduct follow-up interviews.
...

Sheet Team List
A1: Judge Pairings - Separate Judge Teams - Interview MA or TA (not both)
A3: Paste the team list for teams attending the event from the FIRST website & then fill in the judge pairs with # of pairs you have. Teams will be grouped randomly and team assignments will then populate on the judge pairings tab. | G3: # of Judge Pairs | H3: 6 | J3: <-- This method supports a maximum of 10 groups. Only enter 1-10 here. Judges will see each team twice for both Team & Machine Awards
B5: Team # | C5: Team Name | D5: City, State, Country | E5: Assigned Group | I5: this section auto populates - do not enter data here
A6: 1 | B6: 858 | C6: Demons Robotics | D6: Wyoming, Michigan, USA | E6: =_xlfn.LET(_xlpm.n,$H$3,_xlpm.p,MOD(ROW()-ROW($B$6),2*_xlpm.n),IF(_xlpm.p<_xlpm.n,_xlpm.p+1,2*_xlpm.n-_xlpm.p)) -> 1 | I6: Group 1 | J6: {=_xlfn.TEXTJOIN(", ",TRUE,_xlfn._xlws.FILTER($B$6:$B$102,$E$6:$E$102=1,""))} -> 858, 5256, 5501, 7818, 8285, 10181, 10633
A7: 2 | B7: 904 | C7: D Cubed | D7: Grand Rapids, Michigan, USA | E7: =_xlfn.LET(_xlpm.n,$H$3,_xlpm.p,MOD(ROW()-ROW($B$6),2*_xlpm.n),IF(_xlpm.p<_xlpm.n,_xlpm.p+1,2*_xlpm.n-_xlpm.p)) -> 2 | I7: Group 2 | J7: {=_xlfn.TEXTJOIN(", ",TRUE,_xlfn._xlws.FILTER($B$6:$B$102,$E$6:$E$102=2,""))} -> 904, 5166, 5980, 7809, 8423, 9756, 10642
A8: 3 | B8: 1023 | C8: Bedford Express | D8: Temperance, Michigan, USA | E8: =_xlfn.LET(_xlpm.n,$H$3,_xlpm.p,MOD(ROW()-ROW($B$6),2*_xlpm.n),IF(_xlpm.p<_xlpm.n,_xlpm.p+1,2*_xlpm.n-_xlpm.p)) -> 3 | I8: Group 3 | J8: {=_xlfn.TEXTJOIN(", ",TRUE,_xlfn._xlws.FILTER($B$6:$B$102,$E$6:$E$102=3,""))} -> 1023, 4967, 6081, 7808, 8767, 9685, 10664
A9: 4 | B9: 2075 | C9: Enigma Robotics | D9: Grand Rapids, Michigan, USA | E9: =_xlfn.LET(_xlpm.n,$H$3,_xlpm.p,MOD(ROW()-ROW($B$6),2*_xlpm.n),IF(_xlpm.p<_xlpm.n,_xlpm.p+1,2*_xlpm.n-_xlpm.p)) -> 4 | I9: Group 4 | J9: {=_xlfn.TEXTJOIN(", ",TRUE,_xlfn._xlws.FILTER($B$6:$B$102,$E$6:$E$102=4,""))} -> 2075, 4325, 7220, 7658, 9206, 9671, 11399
A10: 5 | B10: 2771 | C10: Code Red Robotics the Stray Dogs | D10: Grandville, Michigan, USA | E10: =_xlfn.LET(_xlpm.n,$H$3,_xlpm.p,MOD(ROW()-ROW($B$6),2*_xlpm.n),IF(_xlpm.p<_xlpm.n,_xlpm.p+1,2*_xlpm.n-_xlpm.p)) -> 5 | H10: {=IFERROR(_xlfn._xlws.FILTER($A$6:$B$102,$B$6:$G$102=H$9),"")} | I10: Group 5 | J10: {=_xlfn.TEXTJOIN(", ",TRUE,_xlfn._xlws.FILTER($B$6:$B$102,$E$6:$E$102=5,""))} -> 2771, 3875, 7221, 7656, 9208, 9638
A11: 6 | B11: 3234 | C11: Red Arrows | D11: Lowell, Michigan, USA | E11: =_xlfn.LET(_xlpm.n,$H$3,_xlpm.p,MOD(ROW()-ROW($B$6),2*_xlpm.n),IF(_xlpm.p<_xlpm.n,_xlpm.p+1,2*_xlpm.n-_xlpm.p)) -> 6 | H11: {=IFERROR(_xlfn._xlws.FILTER($A$6:$B$102,$B$6:$G$102=H$9),"")} | I11: Group 6 | J11: {=_xlfn.TEXTJOIN(", ",TRUE,_xlfn._xlws.FILTER($B$6:$B$102,$E$6:$E$102=6,""))} -> 3234, 3620, 7256, 7289, 9549, 9566
A12: 7 | B12: 3620 | C12: Average Joes | D12: Saint Joseph, Michigan, USA | E12: =_xlfn.LET(_xlpm.n,$H$3,_xlpm.p,MOD(ROW()-ROW($B$6),2*_xlpm.n),IF(_xlpm.p<_xlpm.n,_xlpm.p+1,2*_xlpm.n-_xlpm.p)) -> 6 | H12: {=IFERROR(_xlfn._xlws.FILTER($A$6:$B$102,$B$6:$G$102=H$9),"")} | I12: Group 7 | J12: {=_xlfn.TEXTJOIN(", ",TRUE,_xlfn._xlws.FILTER($B$6:$B$102,$E$6:$E$102=7,""))}
A13: 8 | B13: 3875 | C13: Red Storm Robotics | D13: Kentwood, Michigan, USA | E13: =_xlfn.LET(_xlpm.n,$H$3,_xlpm.p,MOD(ROW()-ROW($B$6),2*_xlpm.n),IF(_xlpm.p<_xlpm.n,_xlpm.p+1,2*_xlpm.n-_xlpm.p)) -> 5 | H13: {=IFERROR(_xlfn._xlws.FILTER($A$6:$B$102,$B$6:$G$102=H$9),"")} | I13: Group 8 | J13: {=_xlfn.TEXTJOIN(", ",TRUE,_xlfn._xlws.FILTER($B$6:$B$102,$E$6:$E$102=8,""))}
A14: 9 | B14: 4325 | C14: RoboRangers | D14: Cassopolis, Michigan, USA | E14: =_xlfn.LET(_xlpm.n,$H$3,_xlpm.p,MOD(ROW()-ROW($B$6),2*_xlpm.n),IF(_xlpm.p<_xlpm.n,_xlpm.p+1,2*_xlpm.n-_xlpm.p)) -> 4 | H14: {=IFERROR(_xlfn._xlws.FILTER($A$6:$B$102,$B$6:$G$102=H$9),"")} | I14: Group 9 | J14: {=_xlfn.TEXTJOIN(", ",TRUE,_xlfn._xlws.FILTER($B$6:$B$102,$E$6:$E$102=9,""))}
A15: 10 | B15: 4967 | C15: That ONE Team-OurNextEngineers | D15: Belmont, Michigan, USA | E15: =_xlfn.LET(_xlpm.n,$H$3,_xlpm.p,MOD(ROW()-ROW($B$6),2*_xlpm.n),IF(_xlpm.p<_xlpm.n,_xlpm.p+1,2*_xlpm.n-_xlpm.p)) -> 3 | H15: {=IFERROR(_xlfn._xlws.FILTER($A$6:$B$102,$B$6:$G$102=H$9),"")} | I15: Group 10 | J15: {=_xlfn.TEXTJOIN(", ",TRUE,_xlfn._xlws.FILTER($B$6:$B$102,$E$6:$E$102=10,""))}
A16: 11 | B16: 5166 | C16: Fabricators | D16: Freeland, Michigan, USA | E16: =_xlfn.LET(_xlpm.n,$H$3,_xlpm.p,MOD(ROW()-ROW($B$6),2*_xlpm.n),IF(_xlpm.p<_xlpm.n,_xlpm.p+1,2*_xlpm.n-_xlpm.p)) -> 2 | H16: {=IFERROR(_xlfn._xlws.FILTER($A$6:$B$102,$B$6:$G$102=H$9),"")}
A17: 12 | B17: 5256 | C17: Atomics | D17: Lake Odessa, Michigan, USA | E17: =_xlfn.LET(_xlpm.n,$H$3,_xlpm.p,MOD(ROW()-ROW($B$6),2*_xlpm.n),IF(_xlpm.p<_xlpm.n,_xlpm.p+1,2*_xlpm.n-_xlpm.p)) -> 1 | H17: {=IFERROR(_xlfn._xlws.FILTER($A$6:$B$102,$B$6:$G$102=H$9),"")}
A18: 13 | B18: 5501 | C18: Bobcats | D18: Burr Oak, Michigan, USA | E18: =_xlfn.LET(_xlpm.n,$H$3,_xlpm.p,MOD(ROW()-ROW($B$6),2*_xlpm.n),IF(_xlpm.p<_xlpm.n,_xlpm.p+1,2*_xlpm.n-_xlpm.p)) -> 1 | H18: {=IFERROR(_xlfn._xlws.FILTER($A$6:$B$102,$B$6:$G$102=H$9),"")}
A19: 14 | B19: 5980 | C19: East Grand Rapids Robotics | D19: Grand Rapids, Michigan, USA | E19: =_xlfn.LET(_xlpm.n,$H$3,_xlpm.p,MOD(ROW()-ROW($B$6),2*_xlpm.n),IF(_xlpm.p<_xlpm.n,_xlpm.p+1,2*_xlpm.n-_xlpm.p)) -> 2 | H19: {=IFERROR(_xlfn._xlws.FILTER($A$6:$B$102,$B$6:$G$102=H$9),"")}
A20: 15 | B20: 6081 | C20: Digital Dislocators | D20: Manchester, Michigan, USA | E20: =_xlfn.LET(_xlpm.n,$H$3,_xlpm.p,MOD(ROW()-ROW($B$6),2*_xlpm.n),IF(_xlpm.p<_xlpm.n,_xlpm.p+1,2*_xlpm.n-_xlpm.p)) -> 3 | H20: {=IFERROR(_xlfn._xlws.FILTER($A$6:$B$102,$B$6:$G$102=H$9),"")}
A21: 16 | B21: 7220 | C21: Steel Falcons | D21: Brighton, Michigan, USA | E21: =_xlfn.LET(_xlpm.n,$H$3,_xlpm.p,MOD(ROW()-ROW($B$6),2*_xlpm.n),IF(_xlpm.p<_xlpm.n,_xlpm.p+1,2*_xlpm.n-_xlpm.p)) -> 4 | H21: {=IFERROR(_xlfn._xlws.FILTER($A$6:$B$102,$B$6:$G$102=H$9),"")}
A22: 17 | B22: 7221 | C22: Viking Robotics | D22: Jackson, Michigan, USA | E22: =_xlfn.LET(_xlpm.n,$H$3,_xlpm.p,MOD(ROW()-ROW($B$6),2*_xlpm.n),IF(_xlpm.p<_xlpm.n,_xlpm.p+1,2*_xlpm.n-_xlpm.p)) -> 5 | H22: {=IFERROR(_xlfn._xlws.FILTER($A$6:$B$102,$B$6:$G$102=H$9),"")}
A23: 18 | B23: 7256 | C23: Irish Robotics | D23: Kalamazoo, Michigan, USA | E23: =_xlfn.LET(_xlpm.n,$H$3,_xlpm.p,MOD(ROW()-ROW($B$6),2*_xlpm.n),IF(_xlpm.p<_xlpm.n,_xlpm.p+1,2*_xlpm.n-_xlpm.p)) -> 6 | H23: {=IFERROR(_xlfn._xlws.FILTER($A$6:$B$102,$B$6:$G$102=H$9),"")}
A24: 19 | B24: 7289 | C24: Blue Eagles | D24: Fowler, Michigan, USA | E24: =_xlfn.LET(_xlpm.n,$H$3,_xlpm.p,MOD(ROW()-ROW($B$6),2*_xlpm.n),IF(_xlpm.p<_xlpm.n,_xlpm.p+1,2*_xlpm.n-_xlpm.p)) -> 6 | H24: {=IFERROR(_xlfn._xlws.FILTER($A$6:$B$102,$B$6:$G$102=H$9),"")}
A25: 20 | B25: 7656 | C25: MC Hammers | D25: Michigan Center, Michigan, USA | E25: =_xlfn.LET(_xlpm.n,$H$3,_xlpm.p,MOD(ROW()-ROW($B$6),2*_xlpm.n),IF(_xlpm.p<_xlpm.n,_xlpm.p+1,2*_xlpm.n-_xlpm.p)) -> 5 | H25: {=IFERROR(_xlfn._xlws.FILTER($A$6:$B$102,$B$6:$G$102=H$9),"")}
A26: 21 | B26: 7658 | C26: MagiTech | D26: Kalamazoo, Michigan, USA | E26: =_xlfn.LET(_xlpm.n,$H$3,_xlpm.p,MOD(ROW()-ROW($B$6),2*_xlpm.n),IF(_xlpm.p<_xlpm.n,_xlpm.p+1,2*_xlpm.n-_xlpm.p)) -> 4 | H26: {=IFERROR(_xlfn._xlws.FILTER($A$6:$B$102,$B$6:$G$102=H$9),"")}
A27: 22 | B27: 7808 | C27: Kalkaska Dragoneers | D27: Kalkaska, Michigan, USA | E27: =_xlfn.LET(_xlpm.n,$H$3,_xlpm.p,MOD(ROW()-ROW($B$6),2*_xlpm.n),IF(_xlpm.p<_xlpm.n,_xlpm.p+1,2*_xlpm.n-_xlpm.p)) -> 3
A28: 23 | B28: 7809 | C28: FROST BYTE Robotics | D28: Bangor, Michigan, USA | E28: =_xlfn.LET(_xlpm.n,$H$3,_xlpm.p,MOD(ROW()-ROW($B$6),2*_xlpm.n),IF(_xlpm.p<_xlpm.n,_xlpm.p+1,2*_xlpm.n-_xlpm.p)) -> 2
A29: 24 | B29: 7818 | C29: Williamston High School Vespidae | D29: Williamston, Michigan, USA | E29: =_xlfn.LET(_xlpm.n,$H$3,_xlpm.p,MOD(ROW()-ROW($B$6),2*_xlpm.n),IF(_xlpm.p<_xlpm.n,_xlpm.p+1,2*_xlpm.n-_xlpm.p)) -> 1
A30: 25 | B30: 8285 | C30: Bionic Bulldogs | D30: Ravenna, Michigan, USA | E30: =_xlfn.LET(_xlpm.n,$H$3,_xlpm.p,MOD(ROW()-ROW($B$6),2*_xlpm.n),IF(_xlpm.p<_xlpm.n,_xlpm.p+1,2*_xlpm.n-_xlpm.p)) -> 1
A31: 26 | B31: 8423 | C31: Next Express | D31: Temperance, Michigan, USA | E31: =_xlfn.LET(_xlpm.n,$H$3,_xlpm.p,MOD(ROW()-ROW($B$6),2*_xlpm.n),IF(_xlpm.p<_xlpm.n,_xlpm.p+1,2*_xlpm.n-_xlpm.p)) -> 2
A32: 27 | B32: 8767 | C32: Dark Horse Robotics | D32: North Branch, Michigan, USA | E32: =_xlfn.LET(_xlpm.n,$H$3,_xlpm.p,MOD(ROW()-ROW($B$6),2*_xlpm.n),IF(_xlpm.p<_xlpm.n,_xlpm.p+1,2*_xlpm.n-_xlpm.p)) -> 3
A33: 28 | B33: 9206 | C33: GRP Titans | D33: Grand Rapids, Michigan, USA | E33: =_xlfn.LET(_xlpm.n,$H$3,_xlpm.p,MOD(ROW()-ROW($B$6),2*_xlpm.n),IF(_xlpm.p<_xlpm.n,_xlpm.p+1,2*_xlpm.n-_xlpm.p)) -> 4
A34: 29 | B34: 9208 | C34: Eddies Circuit | D34: Edwardsburg, Michigan, USA | E34: =_xlfn.LET(_xlpm.n,$H$3,_xlpm.p,MOD(ROW()-ROW($B$6),2*_xlpm.n),IF(_xlpm.p<_xlpm.n,_xlpm.p+1,2*_xlpm.n-_xlpm.p)) -> 5
A35: 30 | B35: 9549 | C35: The Mechadogs | D35: Covert, Michigan, USA | E35: =_xlfn.LET(_xlpm.n,$H$3,_xlpm.p,MOD(ROW()-ROW($B$6),2*_xlpm.n),IF(_xlpm.p<_xlpm.n,_xlpm.p+1,2*_xlpm.n-_xlpm.p)) -> 6
A36: 31 | B36: 9566 | C36: Red Storm Rookies | D36: Kentwood, Michigan, USA | E36: =_xlfn.LET(_xlpm.n,$H$3,_xlpm.p,MOD(ROW()-ROW($B$6),2*_xlpm.n),IF(_xlpm.p<_xlpm.n,_xlpm.p+1,2*_xlpm.n-_xlpm.p)) -> 6
A37: 32 | B37: 9638 | C37: Tigers, Bro! | D37: Gobles, Michigan, USA | E37: =_xlfn.LET(_xlpm.n,$H$3,_xlpm.p,MOD(ROW()-ROW($B$6),2*_xlpm.n),IF(_xlpm.p<_xlpm.n,_xlpm.p+1,2*_xlpm.n-_xlpm.p)) -> 5
A38: 33 | B38: 9671 | C38: Robosnacks | D38: Grand Rapids, Michigan, USA | E38: =_xlfn.LET(_xlpm.n,$H$3,_xlpm.p,MOD(ROW()-ROW($B$6),2*_xlpm.n),IF(_xlpm.p<_xlpm.n,_xlpm.p+1,2*_xlpm.n-_xlpm.p)) -> 4
... A45: 40 | B45: 11399 | C45: Timber Tech | D45: Eau Claire, Michigan, USA | E45: =_xlfn.LET(_xlpm.n,$H$3,_xlpm.p,MOD(ROW()-ROW($B$6),2*_xlpm.n),IF(_xlpm.p<_xlpm.n,_xlpm.p+1,2*_xlpm.n-_xlpm.p)) -> 4
A46: 41 | E46: =_xlfn.LET(_xlpm.n,$H$3,_xlpm.p,MOD(ROW()-ROW($B$6),2*_xlpm.n),IF(_xlpm.p<_xlpm.n,_xlpm.p+1,2*_xlpm.n-_xlpm.p)) -> 5
A47: 42 | E47: =_xlfn.LET(_xlpm.n,$H$3,_xlpm.p,MOD(ROW()-ROW($B$6),2*_xlpm.n),IF(_xlpm.p<_xlpm.n,_xlpm.p+1,2*_xlpm.n-_xlpm.p)) -> 6
A48: 43 | E48: =_xlfn.LET(_xlpm.n,$H$3,_xlpm.p,MOD(ROW()-ROW($B$6),2*_xlpm.n),IF(_xlpm.p<_xlpm.n,_xlpm.p+1,2*_xlpm.n-_xlpm.p)) -> 6
...

Sheet Judge Pairings - Shared Judges
A2: Judge Pairings - Shared Judge Teams - Interview Both MA + TA
A4: Day 1 Morning - Team Attribute Interviews | H4: Day 1 Afternoon - Team Machine Interviews
A6: Engineering Inspiration Award | H6: Autonomous Award
A7: Gracious Professionalism® Award | H7: Creativity Award
A8: Imagery Award, in honor of Jack Kamen | H8: Excellence in Engineering Award
A9: Judges Award | H9: Industrial Design Award
A10: Rising All Star Award | H10: Innovation in Control Award
A11: Team Spirit Award | H11: Quality Award
A12: Team Sustainability Award | H12: Rookie All Star Award
H13: Judges Award
A15: Fill in First Name will auto populate where needed. Pair judges below. Remember to pair Veterans and Rookies when possible - use the Exp column to designate if a Rookie (R) or a Veteran (V). Try to also include someone with technical experience in each group if possible.
H16: Any team with a team number of 11,700 or higher is eligible for the Rookie All Star Award for the 2027 season.
A17: First Name | B17: Last Name | C17: Exp. | D17: Team Assignments
A18: Allen | B18: Bancroft | C18: V, technical | D18: ='Team List'!J6 -> 858, 5256, 5501, 7818, 8285, 10181, 10633
A19: Sally | B19: Test | C19: V, team
A20: Meganne | B20: Tuplin-Dorgan | C20: R, team
A22: Cindy | B22: Stong | C22: V, technical | D22: ='Team List'!J7 -> 904, 5166, 5980, 7809, 8423, 9756, 10642
A23: - | C23: R, team
A24: Fiona | B24: Hanlon | C24: R, technical
A26: - | C26: V | D26: ='Team List'!J8 -> 1023, 4967, 6081, 7808, 8767, 9685, 10664
A27: -
A28: - | C28: R
A30: - | C30: V | D30: ='Team List'!J9 -> 2075, 4325, 7220, 7658, 9206, 9671, 11399
A31: -
A32: - | C32: R
A34: - | C34: V | D34: ='Team List'!J10 -> 2771, 3875, 7221, 7656, 9208, 9638
A35: -
A36: - | C36: R
A38: - | C38: V | D38: ='Team List'!J11 -> 3234, 3620, 7256, 7289, 9549, 9566
A39: -
A40: - | C40: R
A42: - | C42: V | D42: ='Team List'!J12
A43: -
A44: - | C44: R
A46: - | C46: V | D46: ='Team List'!J13
A47: -
A48: - | C48: R
A50: - | C50: V | D50: ='Team List'!J14
A51: -
A52: - | C52: R
...

Sheet Shared Judge Teams Short List
F2: A or B | G2: A or B | H2: A or B | I2: C or D | J2: C or D | K2: C or D | L2: C or D | M2: C or D | N2: C or D | O2: C or D | P2: A or B | Q2: A or B | R2: C or D | S2: A or B
F3: TA | G3: TA | H3: TA | I3: TA/MA | J3: MA | K3: MA | L3: MA | M3: MA | N3: MA | O3: MA | P3: TA | Q3: TA/MA | R3: TA/MA | S3: TA
B4: Day 1 Judges | D4: Day 2 Groups | E4: Day 2 Judges | F4: Imagery Award, in honor of Jack Kamen | G4: Gracious Professionalism® Award | H4: Team Spirit Award | I4: Rising All-Star Award | J4: Autonomous Award | K4: Creativity Award | L4: Quality Award | M4: Industrial Design Award | N4: Innovation in Control Award | O4: Excellence in Engineering Award | P4: Team Sustainability Award | Q4: Judges Award | R4: Rookie All-Star Award | S4: Engineering Inspiration Award
A5: Shared Judge Teams | B5: ='Judge Pairings - Shared Judges'!A18 -> Allen
B6: ='Judge Pairings - Shared Judges'!A19 -> Sally
B7: ='Judge Pairings - Shared Judges'!A20 -> Meganne
E8: If a STRONG #2
B12: ='Judge Pairings - Shared Judges'!A22 -> Cindy
B13: ='Judge Pairings - Shared Judges'!A23 -> -
B14: ='Judge Pairings - Shared Judges'!A24 -> Fiona
E15: If a STRONG #2
B19: ='Judge Pairings - Shared Judges'!A26 -> -
B20: ='Judge Pairings - Shared Judges'!A27 -> -
B21: ='Judge Pairings - Shared Judges'!A28 -> -
E22: If a STRONG #2
B26: ='Judge Pairings - Shared Judges'!A30 -> -
B27: ='Judge Pairings - Shared Judges'!A31 -> -
B28: ='Judge Pairings - Shared Judges'!A32 -> -
E29: If a STRONG #2
B33: ='Judge Pairings - Shared Judges'!A34 -> -
B34: ='Judge Pairings - Shared Judges'!A35 -> -
B35: ='Judge Pairings - Shared Judges'!A36 -> -
E36: If a STRONG #2
B40: ='Judge Pairings - Shared Judges'!A38 -> -
B41: ='Judge Pairings - Shared Judges'!A39 -> -
B42: ='Judge Pairings - Shared Judges'!A40 -> -
E43: If a STRONG #2
B47: ='Judge Pairings - Shared Judges'!A42 -> -
B48: ='Judge Pairings - Shared Judges'!A43 -> -
B49: ='Judge Pairings - Shared Judges'!A44 -> -
E50: If a STRONG #2
B54: ='Judge Pairings - Shared Judges'!A46 -> -
B55: ='Judge Pairings - Shared Judges'!A47 -> -
B56: ='Judge Pairings - Shared Judges'!A48 -> -
E57: If a STRONG #2
B61: ='Judge Pairings - Shared Judges'!A50 -> -
B62: ='Judge Pairings - Shared Judges'!A51 -> -
B63: ='Judge Pairings - Shared Judges'!A52 -> -
E64: If a STRONG #2
B68: ='Judge Pairings - Shared Judges'!A54 -> -
...

Sheet Ambassador Interviews
B2: This sheet will auto generate a list of teams who are not getting a second round interview to help make it easier to know which teams can get an ambassador interview. It pulls information from the "Team List Tab" and compares it to the "Shared Judge Teams Short List tab"
B4: Teams who need an Ambassador interview
B5: {=_xlfn._xlws.FILTER('Team List'!B6:B81,('Team List'!B6:B81<>"")*(COUNTIF('Shared Judge Teams Short List'!F5:S74,'Team List'!B6:B81)=0),"All Teams Re-Interviewed")} -> 858
B6: 904
B7: 1023
B8: 2075
B9: 2771
B10: 3234
B11: 3620
B12: 3875
B13: 4325
B14: 4967
B15: 5166
B16: 5256
B17: 5501
... B44: 11399

Sheet Shared Judge Teams - Sample
F3: A or B | G3: A or B | H3: A or B | I3: A or B C or D | J3: C or D | K3: C or D | L3: C or D | M3: C or D | N3: C or D | O3: C or D | P3: A or B | Q3: A or B | R3: A or B C or D | S3: A or B
F4: TA | G4: TA | H4: TA | I4: TA/MA | J4: MA | K4: MA | L4: MA | M4: MA | N4: MA | O4: MA | P4: TA | Q4: MA/TA | R4: MA/TA | S4: TA
B5: Day 1 Judges | D5: Day 2 Groups | E5: Day 2 Judges | F5: Imagery Award, in honor of Jack Kamen | G5: Gracious Professionalism® Award | H5: Team Spirit Award | I5: Rising All-Star Award | J5: Autonomous Award | K5: Creativity Award | L5: Quality Award | M5: Industrial Design Award | N5: Innovation in Control Award | O5: Excellence in Engineering Award | P5: Team Sustainability Award | Q5: Judges Award | R5: Rookie All-Star Award | S5: Engineering Inspiration Award
A6: Shared Judge Teams | B6: (A) - Tabitha | D6: A | F6: 8543 | G6: 123 | H6: 4 | I6: 9345 | J6: X | K6: X | L6: X | M6: X | N6: X | O6: X | P6: 5454 | Q6: 1622 | R6: x | S6: 6587
B7: (B) - Bill | D7: B
E8: If a STRONG #2 | F8: 44 | H8: 156 | I8: 687 | P8: 852 | R8: x
B12: (A) - Samantha | D12: A | F12: 238 | G12: 1781 | H12: 9068 | I12: 3687 | J12: X | K12: X | L12: X | M12: X | N12: X | O12: X | P12: 238 | Q12: 3616 | R12: x | S12: 3654
B13: (B) - Bob | D13: B
E14: If a STRONG #2 | F14: 42 | H14: 756 | P14: 456 | R14: x
B18: (A) - Liz | D18: A | F18: 4336 | G18: 9073 | H18: 1038 | I18: 891 | J18: X | K18: X | L18: X | M18: X | N18: X | O18: X | P18: 854 | Q18: 6186 | R18: x | S18: 7415
B19: (B) - John | D19: B
E20: If a STRONG #2 | H20: 854 | Q20: 3697 | R20: x
D24: A | J24: X | K24: X | L24: X | M24: X | N24: X | O24: X | S24: 27
D25: B
E26: If a STRONG #2 | S26: 3234
B30: (C) - Tabitha | D30: C | F30: X | G30: X | H30: X | I30: X | J30: 123 | K30: 4 | L30: 123 | M30: 456 | N30: 5624 | O30: 16 | P30: X | Q30: 654 | R30: 10100 | S30: X
B31: (D) - Bill | D31: D
E32: If a STRONG #2 | I32: X | J32: 622 | L32: 918 | M32: 87 | O32: 4 | R32: 10123
B36: (C) - Samantha | D36: C | F36: X | G36: X | H36: X | I36: X | J36: 789 | K36: 781 | L36: 238 | M36: 321 | N36: 9067 | O36: 3616 | P36: X | Q36: 9851 | R36: 10301 | S36: X
B37: (D) - Bob | D37: D
E38: If a STRONG #2 | I38: X | K38: 89 | M38: 7001 | N38: 8542
B42: (C) - Liz | D42: C | F42: X | G42: X | H42: X | I42: X | J42: 4301 | K42: 8502 | L42: 3789 | M42: 4301 | N42: 2568 | O42: 4589 | P42: X | Q42: 3254 | R42: 10456 | S42: X
B43: (D) - John | D43: D
E44: If a STRONG #2 | I44: X | J44: 9873 | K44: 58 | M44: 994
D48: C | F48: X | G48: X | H48: X | I48: X | P48: X | S48: X
D49: D
E50: If a STRONG #2 | I50: X
E54: # Interviews
E55: # Interviews
D59: Final Selection
